Back to the "Multiple platform build/check report"
| Package 157/188 | Hostname | OS | Arch | BUILD | CHECK | BUILD BIN | 
Ruuid1.12.0Biocore TeamLast Changed Date: 2006-10-03 12:16:03 -0700 Last Changed Rev: 20373  | lamb1 | Linux (SUSE 10.1) | x86_64 | OK | OK | |
| wellington | Linux (SUSE 9.2) | i686 | OK | OK | ||
| churchill | Solaris 2.9 | sparc | OK | OK | ||
| lemming | Windows Server 2003 | x86_64 | [ OK ] | OK | OK | 
| Package: Ruuid | 
| Version: 1.12.0 | 
| Command: D:\biocbld\bbs-1.9\R\bin\R.exe CMD build Ruuid | 
| RetCode: 0 | 
| Time: 32.5 seconds | 
| Status: OK | 
| PackageFile: Ruuid_1.12.0.tar.gz | 
* checking for file 'Ruuid/DESCRIPTION' ... OK
* preparing 'Ruuid':
* checking DESCRIPTION meta-information ... OK
* cleaning src
rm -f Ruuid.dll *.a Ruuid.o pack.o parse.o Rinit.o unpack.o unparse.o Ruuid.def
* installing the package to re-build vignettes
installing R.css in D:/biocbld/bbs-1.9/tmpdir/Rinst476407275
---------- Making package Ruuid ------------
   **********************************************
   WARNING: this package has a configure script
         It probably needs manual configuration
   **********************************************
  adding build stamp to DESCRIPTION
  installing NAMESPACE file and metadata
  running src/Makefile.win ...
gcc  -Id:/biocbld/bbs-1.9/R/src/include -O2 -DWin32  -c Ruuid.c -o Ruuid.o
Ruuid.c: In function `UUID2uuidt':
Ruuid.c:33: warning: passing arg 2 of `uuid_pack' from incompatible pointer type
gcc  -Id:/biocbld/bbs-1.9/R/src/include -O2 -DWin32  -c pack.c -o pack.o
gcc  -Id:/biocbld/bbs-1.9/R/src/include -O2 -DWin32  -c parse.c -o parse.o
gcc  -Id:/biocbld/bbs-1.9/R/src/include -O2 -DWin32  -c Rinit.c -o Rinit.o
gcc  -Id:/biocbld/bbs-1.9/R/src/include -O2 -DWin32  -c unpack.c -o unpack.o
gcc  -Id:/biocbld/bbs-1.9/R/src/include -O2 -DWin32  -c unparse.c -o unparse.o
rm -f -f Ruuid.a
ar cr Ruuid.a *.o
ranlib Ruuid.a
gcc  -shared   -o Ruuid.dll Ruuid.def Ruuid.a  -Ld:/biocbld/bbs-1.9/R/bin -lrpcrt4 -lg2c -lRblas -lR
  ... done
  installing DLL
  installing R files
  installing inst files
  installing man source files
  installing indices
  installing help
 >>> Building/Updating help pages for package 'Ruuid'
     Formats: text html latex example chm 
  Ruuid-class                       text    html    latex   example chm
  getuuid                           text    html    latex   example chm
  uuidt-class                       text    html    latex   example chm
Microsoft HTML Help Compiler 4.74.8702
Compiling d:\biocbld\bbs-1.9\meat\Ruuid\chm\Ruuid.chm
Compile time: 0 minutes, 0 seconds
4	Topics
24	Local links
3	Internet links
1	Graphic
Created d:\biocbld\bbs-1.9\meat\Ruuid\chm\Ruuid.chm, 18,552 bytes
Compression increased file by 2,270 bytes.
  preparing package Ruuid for lazy loading
  adding MD5 sums
* DONE (Ruuid)
* creating vignettes ... OK
* cleaning src
rm -f Ruuid.dll *.a Ruuid.o pack.o parse.o Rinit.o unpack.o unparse.o Ruuid.def
* removing junk files
* checking for LF line-endings in source files
* checking for empty or unneeded directories
* building 'Ruuid_1.12.0.tar.gz'