Back to the "Multiple platform build/check report"
| Package 146/188 | Hostname | OS | Arch | BUILD | CHECK | BUILD BIN | 
Rdbi1.8.0Jianhua ZhangLast Changed Date: 2006-10-03 12:16:03 -0700 Last Changed Rev: 20373  | lamb1 | Linux (SUSE 10.1) | x86_64 | OK | OK | |
| wellington | Linux (SUSE 9.2) | i686 | OK | OK | ||
| churchill | Solaris 2.9 | sparc | OK | OK | ||
| lemming | Windows Server 2003 | x86_64 | OK | OK | [ OK ] | 
| Package: Rdbi | 
| Version: 1.8.0 | 
| Command: D:\biocbld\bbs-1.9\R\bin\R.exe CMD INSTALL --build --library=Rdbi.instdir Rdbi_1.8.0.tar.gz | 
| RetCode: 0 | 
| Time: 8.0 seconds | 
| Status: OK | 
| PackageFile: Rdbi_1.8.0.zip | 
installing R.css in D:/biocbld/bbs-1.9/meat/Rdbi.instdir
Using auto-selected zip options ''
---------- Making package Rdbi ------------
  adding build stamp to DESCRIPTION
  installing NAMESPACE file and metadata
  installing R files
  installing man source files
  installing indices
  installing help
 >>> Building/Updating help pages for package 'Rdbi'
     Formats: text html latex example chm 
  Rdbi-internal                     text    html    latex           chm
  dbAppendTable                     text    html    latex           chm
  dbClearResult                     text    html    latex           chm
  dbColumnInfo                      text    html    latex           chm
  dbConnect                         text    html    latex           chm
  dbConnectionInfo                  text    html    latex           chm
  dbDisconnect                      text    html    latex           chm
  dbGetQuery                        text    html    latex           chm
  dbGetResult                       text    html    latex           chm
  dbListTables                      text    html    latex           chm
  dbReadTable                       text    html    latex           chm
  dbReconnect                       text    html    latex           chm
  dbResultInfo                      text    html    latex           chm
  dbSendQuery                       text    html    latex           chm
  dbWriteTable                      text    html    latex           chm
  util                              text    html    latex   example chm
Microsoft HTML Help Compiler 4.74.8702
Compiling d:\biocbld\bbs-1.9\meat\R.INSTALL\Rdbi\chm\Rdbi.chm
Compile time: 0 minutes, 0 seconds
17	Topics
57	Local links
16	Internet links
1	Graphic
Created d:\biocbld\bbs-1.9\meat\R.INSTALL\Rdbi\chm\Rdbi.chm, 28,713 bytes
Compression decreased file by 24,312 bytes.
  adding MD5 sums
packaged installation of package 'Rdbi' as Rdbi_1.8.0.zip
* DONE (Rdbi)