Back to the "Multiple platform build/check report"
| Package 154/188 | Hostname | OS | Arch | BUILD | CHECK | BUILD BIN | 
ROC1.8.0Vince CareyLast Changed Date: 2006-10-03 12:16:03 -0700 Last Changed Rev: 20373  | lamb1 | Linux (SUSE 10.1) | x86_64 | OK | OK | |
| wellington | Linux (SUSE 9.2) | i686 | OK | OK | ||
| churchill | Solaris 2.9 | sparc | OK | OK | ||
| lemming | Windows Server 2003 | x86_64 | [ OK ] | OK | OK | 
| Package: ROC | 
| Version: 1.8.0 | 
| Command: D:\biocbld\bbs-1.9\R\bin\R.exe CMD build ROC | 
| RetCode: 0 | 
| Time: 16.9 seconds | 
| Status: OK | 
| PackageFile: ROC_1.8.0.tar.gz | 
* checking for file 'ROC/DESCRIPTION' ... OK
* preparing 'ROC':
* checking DESCRIPTION meta-information ... OK
* cleaning src
* installing the package to re-build vignettes
installing R.css in D:/biocbld/bbs-1.9/tmpdir/Rinst445292425
---------- Making package ROC ------------
  adding build stamp to DESCRIPTION
  installing NAMESPACE file and metadata
  making DLL ...
making ROC.d from ROC.cc
g++   -Id:/biocbld/bbs-1.9/R/include  -Wall -O2   -c ROC.cc -o ROC.o
windres --include-dir d:/biocbld/bbs-1.9/R/include  -i ROC_res.rc -o ROC_res.o
g++  -shared -s  -o ROC.dll ROC.def ROC.o ROC_res.o  -Ld:/biocbld/bbs-1.9/R/bin    -lR
  ... DLL made
  installing DLL
  installing R files
  save image
  installing inst files
  installing man source files
  installing indices
  installing help
 >>> Building/Updating help pages for package 'ROC'
     Formats: text html latex example chm 
  AUC                               text    html    latex   example chm
  plot-methods                      text    html    latex   example chm
  rocc-class                        text    html    latex   example chm
  rocdemo.sca                       text    html    latex   example chm
  trapezint                         text    html    latex   example chm
Microsoft HTML Help Compiler 4.74.8702
Compiling d:\biocbld\bbs-1.9\meat\ROC\chm\ROC.chm
Compile time: 0 minutes, 0 seconds
6	Topics
16	Local links
0	Internet links
1	Graphic
Created d:\biocbld\bbs-1.9\meat\ROC\chm\ROC.chm, 20,862 bytes
Compression increased file by 2,581 bytes.
  adding MD5 sums
* DONE (ROC)
* creating vignettes ... OK
* cleaning src
* removing junk files
* checking for LF line-endings in source files
* checking for empty or unneeded directories
* building 'ROC_1.8.0.tar.gz'