Back to the "Multiple platform build/check report"
| Package 122/188 | Hostname | OS | Arch | BUILD | CHECK | BUILD BIN | 
OLINgui1.8.0Matthias FutschikLast Changed Date: 2006-10-03 12:16:03 -0700 Last Changed Rev: 20373  | lamb1 | Linux (SUSE 10.1) | x86_64 | OK | OK | |
| wellington | Linux (SUSE 9.2) | i686 | OK | OK | ||
| churchill | Solaris 2.9 | sparc | OK | OK | ||
| lemming | Windows Server 2003 | x86_64 | [ OK ] | OK | OK | 
| Package: OLINgui | 
| Version: 1.8.0 | 
| Command: D:\biocbld\bbs-1.9\R\bin\R.exe CMD build OLINgui | 
| RetCode: 0 | 
| Time: 17.5 seconds | 
| Status: OK | 
| PackageFile: OLINgui_1.8.0.tar.gz | 
* checking for file 'OLINgui/DESCRIPTION' ... OK
* preparing 'OLINgui':
* checking DESCRIPTION meta-information ... OK
* checking whether 'INDEX' is up-to-date ... NO
* use '--force' to overwrite the existing 'INDEX'
* installing the package to re-build vignettes
installing R.css in D:/biocbld/bbs-1.9/tmpdir/Rinst393208782
---------- Making package OLINgui ------------
  adding build stamp to DESCRIPTION
  installing R files
  installing inst files
  installing man source files
  installing indices
  installing help
 >>> Building/Updating help pages for package 'OLINgui'
     Formats: text html latex example chm 
  OLINgui                           text    html    latex           chm
Microsoft HTML Help Compiler 4.74.8702
Compiling d:\biocbld\bbs-1.9\meat\OLINgui\chm\OLINgui.chm
Compile time: 0 minutes, 0 seconds
2	Topics
2	Local links
3	Internet links
1	Graphic
Created d:\biocbld\bbs-1.9\meat\OLINgui\chm\OLINgui.chm, 17,722 bytes
Compression increased file by 8,683 bytes.
  preparing package OLINgui for lazy loading
Loading required package: OLIN
Loading required package: locfit
Loading required package: akima
Loading required package: lattice
Loading required package: Biobase
Loading required package: tools
Welcome to Bioconductor
    Vignettes contain introductory material. To view, type
    'openVignette()' or start with 'help(Biobase)'. For details
    on reading vignettes, see the openVignette help page.
Loading required package: marray
Loading required package: limma
  adding MD5 sums
* DONE (OLINgui)
* creating vignettes ... OK
* removing junk files
* checking for LF line-endings in source files
* checking for empty or unneeded directories
* building 'OLINgui_1.8.0.tar.gz'