Back to the "Multiple platform build/check report"
| Package 80/188 | Hostname | OS | Arch | BUILD | CHECK | BUILD BIN | 
Heatplus1.4.0Alexander PlonerLast Changed Date: 2006-10-03 12:16:03 -0700 Last Changed Rev: 20373  | lamb1 | Linux (SUSE 10.1) | x86_64 | OK | OK | |
| wellington | Linux (SUSE 9.2) | i686 | OK | OK | ||
| churchill | Solaris 2.9 | sparc | OK | OK | ||
| lemming | Windows Server 2003 | x86_64 | OK | [ OK ] | OK | 
| Package: Heatplus | 
| Version: 1.4.0 | 
| Command: D:\biocbld\bbs-1.9\R\bin\R.exe CMD check Heatplus_1.4.0.tar.gz | 
| RetCode: 0 | 
| Time: 49.4 seconds | 
| Status: OK | 
| CheckDir: Heatplus.Rcheck | 
| Warnings: 0 | 
* checking for working latex ... OK * using log directory 'D:/biocbld/bbs-1.9/meat/Heatplus.Rcheck' * using R version 2.4.1 (2006-12-18) * checking for file 'Heatplus/DESCRIPTION' ... OK * this is package 'Heatplus' version '1.4.0' * checking package dependencies ... OK * checking if this is a source package ... OK * checking whether package 'Heatplus' can be installed ... OK * checking package directory ... OK * checking for portable file names ... OK * checking DESCRIPTION meta-information ... OK * checking top-level files ... OK * checking index information ... OK * checking package subdirectories ... OK * checking R files for syntax errors ... OK * checking R files for non-ASCII characters ... OK * checking whether the package can be loaded ... OK * checking whether the package can be loaded with stated dependencies ... OK * checking S3 generic/method consistency ... OK * checking replacement functions ... OK * checking foreign function calls ... OK * checking R code for possible problems ... OK * checking Rd files ... OK * checking Rd cross-references ... OK * checking for missing documentation entries ... OK * checking for code/documentation mismatches ... OK * checking Rd \usage sections ... OK * creating Heatplus-Ex.R ... OK * checking examples ... OK * checking package vignettes in 'inst/doc' ... OK * creating Heatplus-manual.tex ... OK * checking Heatplus-manual.tex ... OK
Heatplus.Rcheck/00install.out:
installing R.css in D:/biocbld/bbs-1.9/meat/Heatplus.Rcheck
---------- Making package Heatplus ------------
  adding build stamp to DESCRIPTION
  installing R files
  installing inst files
  installing man source files
  installing indices
  installing help
 >>> Building/Updating help pages for package 'Heatplus'
     Formats: text html latex example chm 
  RGBColVec                         text    html    latex   example chm
  cutplot.dendrogram                text    html    latex   example chm
  heatmap_2                         text    html    latex   example chm
  heatmap_plus                      text    html    latex   example chm
  picketplot                        text    html    latex   example chm
Microsoft HTML Help Compiler 4.74.8702
Compiling d:\biocbld\bbs-1.9\meat\Heatplus.Rcheck\00_pkg_src\Heatplus\chm\Heatplus.chm
Compile time: 0 minutes, 0 seconds
6	Topics
17	Local links
0	Internet links
1	Graphic
Created d:\biocbld\bbs-1.9\meat\Heatplus.Rcheck\00_pkg_src\Heatplus\chm\Heatplus.chm, 28,441 bytes
Compression decreased file by 2,464 bytes.
  adding MD5 sums
* DONE (Heatplus)