Back to the "Multiple platform build/check report"
| Package 79/188 | Hostname | OS | Arch | BUILD | CHECK | BUILD BIN | 
Harshlight1.2.0Maurizio PellegrinoLast Changed Date: 2006-10-03 12:16:03 -0700 Last Changed Rev: 20373  | lamb1 | Linux (SUSE 10.1) | x86_64 | OK | OK | |
| wellington | Linux (SUSE 9.2) | i686 | OK | OK | ||
| churchill | Solaris 2.9 | sparc | OK | OK | ||
| lemming | Windows Server 2003 | x86_64 | OK | OK | [ OK ] | 
| Package: Harshlight | 
| Version: 1.2.0 | 
| Command: D:\biocbld\bbs-1.9\R\bin\R.exe CMD INSTALL --build --library=Harshlight.instdir Harshlight_1.2.0.tar.gz | 
| RetCode: 0 | 
| Time: 11.0 seconds | 
| Status: OK | 
| PackageFile: Harshlight_1.2.0.zip | 
installing R.css in D:/biocbld/bbs-1.9/meat/Harshlight.instdir
Using auto-selected zip options 'Harshlight-ZIPDATA=zip'
---------- Making package Harshlight ------------
  adding build stamp to DESCRIPTION
  making DLL ...
making Harshlight.d from Harshlight.c
gcc   -ID:/biocbld/bbs-1.9/R/include  -Wall -O2 -std=gnu99   -c Harshlight.c -o Harshlight.o
windres --include-dir D:/biocbld/bbs-1.9/R/include  -i Harshlight_res.rc -o Harshlight_res.o
gcc  -shared -s  -o Harshlight.dll Harshlight.def Harshlight.o Harshlight_res.o  -LD:/biocbld/bbs-1.9/R/bin    -lR
  ... DLL made
  installing DLL
  installing R files
  installing inst files
  installing data files
  installing man source files
  installing indices
  zipping data
  installing help
 >>> Building/Updating help pages for package 'Harshlight'
     Formats: text html latex example chm 
  HarshComp                         text    html    latex           chm
  HarshExt                          text    html    latex           chm
  Harshlight                        text    html    latex   example chm
  sim                               text    html    latex           chm
Microsoft HTML Help Compiler 4.74.8702
Compiling d:\biocbld\bbs-1.9\meat\R.INSTALL\Harshlight\chm\Harshlight.chm
Compile time: 0 minutes, 0 seconds
5	Topics
11	Local links
3	Internet links
1	Graphic
Created d:\biocbld\bbs-1.9\meat\R.INSTALL\Harshlight\chm\Harshlight.chm, 24,673 bytes
Compression decreased file by 1,610 bytes.
  preparing package Harshlight for lazy loading
Loading required package: affy
Loading required package: Biobase
Loading required package: tools
Welcome to Bioconductor
    Vignettes contain introductory material. To view, type
    'openVignette()' or start with 'help(Biobase)'. For details
    on reading vignettes, see the openVignette help page.
Loading required package: affyio
  adding MD5 sums
packaged installation of package 'Harshlight' as Harshlight_1.2.0.zip
* DONE (Harshlight)