Back to the "Multiple platform build/check report"
| Package 68/188 | Hostname | OS | Arch | BUILD | CHECK | BUILD BIN | 
GEOquery1.8.0Sean DavisLast Changed Date: 2006-10-03 12:16:03 -0700 Last Changed Rev: 20373  | lamb1 | Linux (SUSE 10.1) | x86_64 | OK | [ OK ] | |
| wellington | Linux (SUSE 9.2) | i686 | OK | OK | ||
| churchill | Solaris 2.9 | sparc | OK | OK | ||
| lemming | Windows Server 2003 | x86_64 | OK | OK | OK | 
| Package: GEOquery | 
| Version: 1.8.0 | 
| Command: /home/biocbuild/bbs-1.9/R/bin/R CMD check GEOquery_1.8.0.tar.gz | 
| RetCode: 0 | 
| Time: 39.5 seconds | 
| Status: OK | 
| CheckDir: GEOquery.Rcheck | 
| Warnings: 0 | 
* checking for working latex ... OK * using log directory '/home/biocbuild/bbs-1.9/meat/GEOquery.Rcheck' * using R version 2.4.1 (2006-12-18) * checking for file 'GEOquery/DESCRIPTION' ... OK * checking extension type ... Package * this is package 'GEOquery' version '1.8.0' * checking package dependencies ... OK * checking if this is a source package ... OK * checking whether package 'GEOquery' can be installed ... OK * checking package directory ... OK * checking for portable file names ... OK * checking for sufficient/correct file permissions ... OK * checking DESCRIPTION meta-information ... OK * checking top-level files ... OK * checking index information ... OK * checking package subdirectories ... OK * checking R files for syntax errors ... OK * checking R files for non-ASCII characters ... OK * checking whether the package can be loaded ... OK * checking whether the package can be loaded with stated dependencies ... OK * checking whether the name space can be loaded with stated dependencies ... OK * checking S3 generic/method consistency ... OK * checking replacement functions ... OK * checking foreign function calls ... OK * checking R code for possible problems ... OK * checking Rd files ... OK * checking Rd cross-references ... OK * checking for missing documentation entries ... OK * checking for code/documentation mismatches ... OK * checking Rd \usage sections ... OK * creating GEOquery-Ex.R ... OK * checking examples ... OK * checking package vignettes in 'inst/doc' ... OK * creating GEOquery-manual.tex ... OK * checking GEOquery-manual.tex ... OK
GEOquery.Rcheck/00install.out:
* Installing *source* package 'GEOquery' ...
** R
** inst
** help
 >>> Building/Updating help pages for package 'GEOquery'
     Formats: text html latex example 
  GDS-class                         text    html    latex
  GDS2MA                            text    html    latex   example
  GEOData-class                     text    html    latex
  GEODataTable-class                text    html    latex
  GPL-class                         text    html    latex
  GSE-class                         text    html    latex
  GSM-class                         text    html    latex
  dataTable                         text    html    latex
  getGEO                            text    html    latex   example
  getGEOfile                        text    html    latex   example
  parseGEO                          text    html    latex
** building package indices ...
* DONE (GEOquery)