Back to the "Multiple platform build/check report"
| Package 51/188 | Hostname | OS | Arch | BUILD | CHECK | BUILD BIN | 
EBarrays1.6.0Deepayan SarkarLast Changed Date: 2006-10-03 12:16:03 -0700 Last Changed Rev: 20373  | lamb1 | Linux (SUSE 10.1) | x86_64 | OK | OK | |
| wellington | Linux (SUSE 9.2) | i686 | [ OK ] | OK | ||
| churchill | Solaris 2.9 | sparc | OK | OK | ||
| lemming | Windows Server 2003 | x86_64 | OK | OK | OK | 
| Package: EBarrays | 
| Version: 1.6.0 | 
| Command: /loc/biocbuild/bbs-1.9/R/bin/R CMD build EBarrays | 
| RetCode: 0 | 
| Time: 93.5 seconds | 
| Status: OK | 
| PackageFile: EBarrays_1.6.0.tar.gz | 
* checking for file 'EBarrays/DESCRIPTION' ... OK
* preparing 'EBarrays':
* checking DESCRIPTION meta-information ... OK
* cleaning src
* checking whether 'INDEX' is up-to-date ... OK
* installing the package to re-build vignettes
* Installing *source* package 'EBarrays' ...
** libs
gcc -std=gnu99 -I/loc/biocbuild/bbs-1.9/R/include -I/loc/biocbuild/bbs-1.9/R/include  -I/usr/local/include    -fpic  -g -O2 -Wall -c ebarrays.c -o ebarrays.o
gcc -std=gnu99 -shared -L/usr/local/lib -o EBarrays.so ebarrays.o   
** R
** data
** demo
** inst
** save image
Loading required package: Biobase
Loading required package: tools
Welcome to Bioconductor
    Vignettes contain introductory material. To view, type
    'openVignette()' or start with 'help(Biobase)'. For details
    on reading vignettes, see the openVignette help page.
Loading required package: lattice
[1] "ebarraysFamily"
[1] "ebarraysPatterns"
[1] "show"
[1] "show"
[1] "ebarraysEmFit"
[1] "show"
[1] "emfit"
[1] "emfit"
[1] "emfit"
[1] "emfit"
[1] "emfit"
[1] "emfit"
[1] "emfit"
[1] "postprob"
[1] "ebarraysPostProb"
[1] "show"
[1] "postprob"
[1] "postprob"
[1] "postprob"
** preparing package for lazy loading
Loading required package: Biobase
Loading required package: tools
Welcome to Bioconductor
    Vignettes contain introductory material. To view, type
    'openVignette()' or start with 'help(Biobase)'. For details
    on reading vignettes, see the openVignette help page.
Loading required package: lattice
** help
 >>> Building/Updating help pages for package 'EBarrays'
     Formats: text html latex example 
  ebarraysFamily-class              text    html    latex   example
  ebplots                           text    html    latex   example
  emfit                             text    html    latex   example
  gould                             text    html    latex   example
  postprob                          text    html    latex
  utilities                         text    html    latex   example
** building package indices ...
* DONE (EBarrays)
* creating vignettes ... OK
* cleaning src
* removing junk files
* checking for LF line-endings in source files
* checking for empty or unneeded directories
* building 'EBarrays_1.6.0.tar.gz'