Back to the "Multiple platform build/check report"
| Package 50/188 | Hostname | OS | Arch | BUILD | CHECK | BUILD BIN | 
DynDoc1.12.0Biocore TeamLast Changed Date: 2006-10-03 12:16:03 -0700 Last Changed Rev: 20373  | lamb1 | Linux (SUSE 10.1) | x86_64 | OK | OK | |
| wellington | Linux (SUSE 9.2) | i686 | OK | OK | ||
| churchill | Solaris 2.9 | sparc | OK | OK | ||
| lemming | Windows Server 2003 | x86_64 | OK | OK | [ OK ] | 
| Package: DynDoc | 
| Version: 1.12.0 | 
| Command: D:\biocbld\bbs-1.9\R\bin\R.exe CMD INSTALL --build --library=DynDoc.instdir DynDoc_1.12.0.tar.gz | 
| RetCode: 0 | 
| Time: 10.0 seconds | 
| Status: OK | 
| PackageFile: DynDoc_1.12.0.zip | 
installing R.css in D:/biocbld/bbs-1.9/meat/DynDoc.instdir
Using auto-selected zip options ''
---------- Making package DynDoc ------------
  adding build stamp to DESCRIPTION
  installing NAMESPACE file and metadata
  installing R files
  save image
Loading required package: tools
Creating a new generic function for "summary" in "DynDoc"
Warning message:
undefined slot classes in definition of "Vignette": vigPkgVersion(class "VersionNumber") in: .completeClassSlots(ClassDef, where) 
  installing man source files
  installing indices
  installing help
 >>> Building/Updating help pages for package 'DynDoc'
     Formats: text html latex example chm 
  DynDoc-class                      text    html    latex           chm
  SweaveOptions-class               text    html    latex           chm
  Vignette-class                    text    html    latex           chm
  chunkList-class                   text    html    latex   example chm
  codeChunk-class                   text    html    latex   example chm
  getPkgVigList                     text    html    latex   example chm
  getVignette                       text    html    latex           chm
  getVignetteCode                   text    html    latex           chm
  getVignetteHeader                 text    html    latex           chm
  tangleToR                         text    html    latex   example chm
  vignetteCode-class                text    html    latex           chm
Microsoft HTML Help Compiler 4.74.8702
Compiling d:\biocbld\bbs-1.9\meat\R.INSTALL\DynDoc\chm\DynDoc.chm
Compile time: 0 minutes, 0 seconds
12	Topics
119	Local links
0	Internet links
1	Graphic
Created d:\biocbld\bbs-1.9\meat\R.INSTALL\DynDoc\chm\DynDoc.chm, 30,241 bytes
Compression decreased file by 39,160 bytes.
  adding MD5 sums
packaged installation of package 'DynDoc' as DynDoc_1.12.0.zip
* DONE (DynDoc)