Back to the "Multiple platform build/check report"
| Package 39/188 | Hostname | OS | Arch | BUILD | CHECK | BUILD BIN |
ChromoViz1.6.0Jihoon KimLast Changed Date: 2006-10-03 12:16:03 -0700 Last Changed Rev: 20373 | lamb1 | Linux (SUSE 10.1) | x86_64 | OK | OK | |
| wellington | Linux (SUSE 9.2) | i686 | OK | OK | ||
| churchill | Solaris 2.9 | sparc | OK | OK | ||
| lemming | Windows Server 2003 | x86_64 | OK | [ OK ] | OK |
| Package: ChromoViz |
| Version: 1.6.0 |
| Command: D:\biocbld\bbs-1.9\R\bin\R.exe CMD check ChromoViz_1.6.0.tar.gz |
| RetCode: 0 |
| Time: 36.2 seconds |
| Status: OK |
| CheckDir: ChromoViz.Rcheck |
| Warnings: 0 |
* checking for working latex ... OK * using log directory 'D:/biocbld/bbs-1.9/meat/ChromoViz.Rcheck' * using R version 2.4.1 (2006-12-18) * checking for file 'ChromoViz/DESCRIPTION' ... OK * checking extension type ... Package * this is package 'ChromoViz' version '1.6.0' * checking package dependencies ... OK * checking if this is a source package ... OK * checking whether package 'ChromoViz' can be installed ... OK * checking package directory ... OK * checking for portable file names ... OK * checking DESCRIPTION meta-information ... OK * checking top-level files ... OK * checking index information ... OK * checking package subdirectories ... OK * checking R files for syntax errors ... OK * checking R files for non-ASCII characters ... OK * checking whether the package can be loaded ... OK * checking whether the package can be loaded with stated dependencies ... OK * checking S3 generic/method consistency ... OK * checking replacement functions ... OK * checking foreign function calls ... OK * checking R code for possible problems ... OK * checking Rd files ... OK * checking Rd cross-references ... OK * checking for missing documentation entries ... OK * checking for code/documentation mismatches ... OK * checking Rd \usage sections ... OK * creating ChromoViz-Ex.R ... OK * checking examples ... OK * creating ChromoViz-manual.tex ... OK * checking ChromoViz-manual.tex ... OK
ChromoViz.Rcheck/00install.out:
installing R.css in D:/biocbld/bbs-1.9/meat/ChromoViz.Rcheck
---------- Making package ChromoViz ------------
adding build stamp to DESCRIPTION
installing R files
installing data files
installing man source files
installing indices
not zipping data
installing help
>>> Building/Updating help pages for package 'ChromoViz'
Formats: text html latex example chm
cViz text html latex example chm
cViz.addAnnoNodes2SVG text html latex chm
cViz.addZeroToTheSingleDigit text html latex chm
cViz.distinctNames text html latex chm
cViz.drawChr text html latex chm
cViz.drawFeature text html latex chm
cViz.getHeightOfPolylinePoints text html latex chm
cViz.incPolylineAttrValue text html latex chm
cViz.incSVGviewBoxValue text html latex chm
cViz.incSingleAttrValue text html latex chm
cViz.incTextAttrValue text html latex chm
cViz.insertNewAttrValue text html latex chm
cViz.loadFiles text html latex chm
cViz.makeChromWrapperHtml text html latex chm
cViz.makeFrameHtml text html latex chm
cViz.makeHeaderHtml text html latex chm
cViz.mergeSVG text html latex chm
exprKnockout text html latex example chm
exprStemcell text html latex example chm
humanBand text html latex example chm
mouseBand text html latex example chm
svgControl text html latex chm
Microsoft HTML Help Compiler 4.74.8702
Compiling d:\biocbld\bbs-1.9\meat\ChromoViz.Rcheck\00_pkg_src\ChromoViz\chm\ChromoViz.chm
Compile time: 0 minutes, 0 seconds
23 Topics
60 Local links
0 Internet links
1 Graphic
Created d:\biocbld\bbs-1.9\meat\ChromoViz.Rcheck\00_pkg_src\ChromoViz\chm\ChromoViz.chm, 19,216 bytes
Compression decreased file by 12,910 bytes.
adding MD5 sums
* DONE (ChromoViz)