Back to the "Multiple platform build/check report"
| Package 32/188 | Hostname | OS | Arch | BUILD | CHECK | BUILD BIN | 
BioMVCClass1.2.0Elizabeth WhalenLast Changed Date: 2006-10-03 12:16:03 -0700 Last Changed Rev: 20373  | lamb1 | Linux (SUSE 10.1) | x86_64 | OK | OK | |
| wellington | Linux (SUSE 9.2) | i686 | OK | OK | ||
| churchill | Solaris 2.9 | sparc | OK | [ OK ] | ||
| lemming | Windows Server 2003 | x86_64 | OK | OK | OK | 
| Package: BioMVCClass | 
| Version: 1.2.0 | 
| Command: /loc/biocbuild/bbs-1.9/R/bin/R CMD check BioMVCClass_1.2.0.tar.gz | 
| RetCode: 0 | 
| Time: 216.0 seconds | 
| Status: OK | 
| CheckDir: BioMVCClass.Rcheck | 
| Warnings: 0 | 
* checking for working latex ... OK * using log directory '/loc/biocbuild/bbs-1.9/meat/BioMVCClass.Rcheck' * using R version 2.4.1 (2006-12-18) * checking for file 'BioMVCClass/DESCRIPTION' ... OK * this is package 'BioMVCClass' version '1.2.0' * checking package dependencies ... OK * checking if this is a source package ... OK * checking whether package 'BioMVCClass' can be installed ... OK * checking package directory ... OK * checking for portable file names ... OK * checking for sufficient/correct file permissions ... OK * checking DESCRIPTION meta-information ... OK * checking top-level files ... OK * checking index information ... OK * checking package subdirectories ... OK * checking R files for syntax errors ... OK * checking R files for non-ASCII characters ... OK * checking whether the package can be loaded ... OK * checking whether the package can be loaded with stated dependencies ... OK * checking whether the name space can be loaded with stated dependencies ... OK * checking S3 generic/method consistency ... OK * checking replacement functions ... OK * checking foreign function calls ... OK * checking R code for possible problems ... OK * checking Rd files ... OK * checking Rd cross-references ... OK * checking for missing documentation entries ... OK * checking for code/documentation mismatches ... OK * checking Rd \usage sections ... OK * creating BioMVCClass-Ex.R ... OK * checking examples ... OK * checking package vignettes in 'inst/doc' ... OK * creating BioMVCClass-manual.tex ... OK * checking BioMVCClass-manual.tex ... OK
BioMVCClass.Rcheck/00install.out:
* Installing *source* package 'BioMVCClass' ...
** R
** inst
** help
 >>> Building/Updating help pages for package 'BioMVCClass'
     Formats: text html latex example 
  GSE-class                         text    html    latex   example
  exprModel-class                   text    html    latex   example
  graphModel-class                  text    html    latex   example
  graphView-class                   text    html    latex   example
  gseModel-class                    text    html    latex   example
  heatmapView-class                 text    html    latex   example
** building package indices ...
* DONE (BioMVCClass)