* checking for file 'affydata/DESCRIPTION' ... OK
* preparing 'affydata':
* checking DESCRIPTION meta-information ... OK
* installing the package to re-build vignettes
* Installing *source* package 'affydata' ...
** R
** data
** inst
** help
 >>> Building/Updating help pages for package 'affydata'
     Formats: text html latex example 
  Dilution                          text    html    latex
** building package indices ...
* DONE (affydata)
* creating vignettes ... OK
* removing junk files
* checking for LF line-endings in source files
* checking for empty or unneeded directories
* building 'affydata_1.10.0.tar.gz'