Back to the "Multiple platform build/check report"
| Package 121/188 | OS | Arch | BUILD | CHECK | BUILD BIN | 
| OLIN1.10.0Matthias Futschik | Linux (SUSE 9.2) | x86_64 | OK | OK | |
| Linux (SUSE 9.2) | i686 | [ OK ] | OK | ||
| Solaris 2.9 | sparc | OK | OK | ||
| Windows Server 2003 | x86_64 | OK | OK | OK | 
| Package: OLIN | 
| Version: 1.10.0 | 
| Command: /loc/biocbuild/1.9d/R/bin/R CMD build OLIN | 
| RetCode: 0 | 
| Time: 6.8 seconds | 
| Status: OK | 
| PackageFile: OLIN_1.10.0.tar.gz | 
* checking for file 'OLIN/DESCRIPTION' ... OK * preparing 'OLIN': * checking DESCRIPTION meta-information ... OK * checking whether 'INDEX' is up-to-date ... NO * use '--force' to overwrite the existing 'INDEX' * removing junk files * checking for LF line-endings in source files * checking for empty or unneeded directories * building 'OLIN_1.10.0.tar.gz'