Back to the "Multiple platform build/check report"
| Package 117/188 | OS | Arch | BUILD | CHECK | BUILD BIN |
nem1.2.0Florian Markowetz | Linux (SUSE 9.2) | x86_64 | OK | OK | |
| Linux (SUSE 9.2) | i686 | OK | OK | ||
| Solaris 2.9 | sparc | OK | OK | ||
| Windows Server 2003 | x86_64 | OK | [ OK ] | OK |
| Package: nem |
| Version: 1.2.0 |
| Command: D:\biocbld\1.9d\R\bin\R.exe CMD check nem_1.2.0.tar.gz |
| RetCode: 0 |
| Time: 107.0 seconds |
| Status: OK |
| CheckDir: nem.Rcheck |
| Warnings: 0 |
* checking for working latex ... OK * using log directory 'D:/biocbld/1.9d/Rpacks/nem.Rcheck' * using R version 2.4.0 (2006-10-03) * checking for file 'nem/DESCRIPTION' ... OK * this is package 'nem' version '1.2.0' * checking package dependencies ... OK * checking if this is a source package ... OK * checking whether package 'nem' can be installed ... OK * checking package directory ... OK * checking for portable file names ... OK * checking DESCRIPTION meta-information ... OK * checking top-level files ... OK * checking index information ... OK * checking package subdirectories ... OK * checking R files for syntax errors ... OK * checking R files for non-ASCII characters ... OK * checking whether the package can be loaded ... OK * checking whether the package can be loaded with stated dependencies ... OK * checking S3 generic/method consistency ... OK * checking replacement functions ... OK * checking foreign function calls ... OK * checking R code for possible problems ... OK * checking Rd files ... OK * checking Rd cross-references ... OK * checking for missing documentation entries ... OK * checking for code/documentation mismatches ... OK * checking Rd \usage sections ... OK * creating nem-Ex.R ... OK * checking examples ... OK * checking package vignettes in 'inst/doc' ... OK * creating nem-manual.tex ... OK * checking nem-manual.tex ... OK
nem.Rcheck/00install.out:
installing R.css in D:/biocbld/1.9d/Rpacks/nem.Rcheck
---------- Making package nem ------------
adding build stamp to DESCRIPTION
installing R files
installing inst files
installing data files
installing man source files
installing indices
not zipping data
installing help
>>> Building/Updating help pages for package 'nem'
Formats: text html latex example chm
BoutrosRNAi2002 text html latex example chm
FULLmLL text html latex example chm
SCCgraph text html latex example chm
enumerate.models text html latex example chm
local.model.prior text html latex example chm
mLL text html latex example chm
nem text html latex example chm
nem.discretize text html latex example chm
pairwise.posterior text html latex example chm
plot.effects text html latex example chm
prune.graph text html latex example chm
score text html latex example chm
transitive.closure text html latex example chm
transitive.reduction text html latex example chm
Microsoft HTML Help Compiler 4.74.8702
Compiling d:\biocbld\1.9d\Rpacks\nem.Rcheck\00_pkg_src\nem\chm\nem.chm
Compile time: 0 minutes, 0 seconds
15 Topics
61 Local links
0 Internet links
1 Graphic
Created d:\biocbld\1.9d\Rpacks\nem.Rcheck\00_pkg_src\nem\chm\nem.chm, 36,504 bytes
Compression decreased file by 22,016 bytes.
adding MD5 sums
* DONE (nem)