Back to the "Multiple platform build/check report"
| Package 151/188 | OS | Arch | BUILD | CHECK | BUILD BIN |
Rgraphviz1.12.1Jeff Gentry | Linux (SUSE 9.2) | x86_64 | OK | [ OK ] | |
| Linux (SUSE 9.2) | i686 | OK | OK | ||
| Solaris 2.9 | sparc | OK | WARNINGS | ||
| Windows Server 2003 | x86_64 | OK | OK | OK |
| Package: Rgraphviz |
| Version: 1.12.1 |
| Command: /loc/biocbuild/1.9d/R/bin/R CMD check Rgraphviz_1.12.1.tar.gz |
| RetCode: 0 |
| Time: 158.1 seconds |
| Status: OK |
| CheckDir: Rgraphviz.Rcheck |
| Warnings: 0 |
* checking for working latex ... OK * using log directory '/loc/biocbuild/1.9d/Rpacks/Rgraphviz.Rcheck' * using R version 2.4.0 (2006-10-03) * checking for file 'Rgraphviz/DESCRIPTION' ... OK * this is package 'Rgraphviz' version '1.12.1' * checking package dependencies ... OK * checking if this is a source package ... OK * checking whether package 'Rgraphviz' can be installed ... OK * checking package directory ... OK * checking for portable file names ... OK * checking for sufficient/correct file permissions ... OK * checking DESCRIPTION meta-information ... OK * checking top-level files ... OK * checking index information ... OK * checking package subdirectories ... OK * checking R files for syntax errors ... OK * checking R files for non-ASCII characters ... OK * checking whether the package can be loaded ... OK * checking whether the package can be loaded with stated dependencies ... OK * checking whether the name space can be loaded with stated dependencies ... OK * checking S3 generic/method consistency ... OK * checking replacement functions ... OK * checking foreign function calls ... OK * checking R code for possible problems ... OK * checking Rd files ... OK * checking Rd cross-references ... OK * checking for missing documentation entries ... OK * checking for code/documentation mismatches ... OK * checking Rd \usage sections ... OK * checking for CRLF line endings in C/C++/Fortran sources/headers ... OK * checking for portable compilation flags in Makevars ... OK * checking for portable use of $BLAS_LIBS ... OK * creating Rgraphviz-Ex.R ... OK * checking examples ... OK * checking package vignettes in 'inst/doc' ... OK * creating Rgraphviz-manual.tex ... OK * checking Rgraphviz-manual.tex ... OK
Rgraphviz.Rcheck/00install.out:
* Installing *source* package 'Rgraphviz' ...
checking for pkg-config... /usr/bin/pkg-config
configure: Found graphviz 2.8
configure: creating ./config.status
config.status: creating src/Makevars
** libs
gcc -I/loc/biocbuild/1.9d/R/include -I/loc/biocbuild/1.9d/R/include -I/usr/local/include/graphviz -DGRAPHVIZGT_1_16 -DGRAPHVIZGT_2_4 -I/usr/local/include -fpic -g -O2 -std=gnu99 -Wall -c Rgraphviz.c -o Rgraphviz.o
Rgraphviz.c: In function `getListElement':
Rgraphviz.c:54: warning: implicit declaration of function `Rf_type2char'
gcc -I/loc/biocbuild/1.9d/R/include -I/loc/biocbuild/1.9d/R/include -I/usr/local/include/graphviz -DGRAPHVIZGT_1_16 -DGRAPHVIZGT_2_4 -I/usr/local/include -fpic -g -O2 -std=gnu99 -Wall -c RgraphvizInit.c -o RgraphvizInit.o
common.h:46: warning: `gvc' defined but not used
gcc -shared -L/usr/local/lib64 -o Rgraphviz.so Rgraphviz.o RgraphvizInit.o -L/usr/local/lib/graphviz -lgvc
** R
** inst
** save image
Loading required package: graph
Loading required package: geneplotter
Loading required package: annotate
Loading required package: Biobase
Loading required package: tools
Welcome to Bioconductor
Vignettes contain introductory material. To view, type
'openVignette()' or start with 'help(Biobase)'. For details
on reading vignettes, see the openVignette help page.
KernSmooth 2.22 installed
Copyright M. P. Wand 1997
Creating a new generic function for "lines" in "Rgraphviz"
Creating a new generic function for "plot" in "Rgraphviz"
** help
>>> Building/Updating help pages for package 'Rgraphviz'
Formats: text html latex example
AgEdge-class text html latex example
AgNode-class text html latex example
AgTextLabel-class text html latex example
BezierCurve-class text html latex example
GraphvizAttributes text html latex example
GraphvizLayouts text html latex example
Ragraph-class text html latex example
agopen text html latex example
agwrite text html latex example
boundingBox-class text html latex example
buildNodeList text html latex example
getDefaultAttrs text html latex example
graphvizVersion text html latex example
imageMap text html latex example
layoutGraph text html latex example
makeNodeAttrs text html latex example
pEdge-class text html latex example
pNode-class text html latex example
pieGlyph text html latex example
plot-methods text html latex example
removedEdges text html latex example
toDot-methods text html latex example
xyPoint-class text html latex example
** building package indices ...
* DONE (Rgraphviz)