Back to the "Multiple platform build/check report"
| Package 142/172 | OS | Arch | BUILD | CHECK | BUILD BIN |
RMAPPER1.2.0VJ Carey | Linux (SUSE 9.2) | x86_64 | OK | OK | |
| Linux (SUSE 9.2) | i686 | [ OK ] | OK | ||
| Solaris 2.9 | sparc | OK | OK | ||
| Linux (SUSE 10.0) | x86_64 | OK | OK | ||
| Windows Server 2003 | x86_64 | OK | OK | OK |
| Package: RMAPPER |
| Version: 1.2.0 |
| Command: /loc/biocbuild/1.8d/R/bin/R CMD build RMAPPER |
| RetCode: 0 |
| Time: 1.5 seconds |
| Status: OK |
| PackageFile: RMAPPER_1.2.0.tar.gz |
* checking for file 'RMAPPER/DESCRIPTION' ... OK * preparing 'RMAPPER': * checking DESCRIPTION meta-information ... OK * removing junk files * checking for LF line-endings in source files * checking for empty or unneeded directories WARNING: directory 'RMAPPER/inst/doc' is empty * building 'RMAPPER_1.2.0.tar.gz'