Back to the "Multiple platform build/check report"
| Package 109/172 | OS | Arch | BUILD | CHECK | BUILD BIN |
MVCClass1.6.0Elizabeth Whalen | Linux (SUSE 9.2) | x86_64 | OK | OK | |
| Linux (SUSE 9.2) | i686 | OK | [ OK ] | ||
| Solaris 2.9 | sparc | OK | OK | ||
| Linux (SUSE 10.0) | x86_64 | OK | OK | ||
| Windows Server 2003 | x86_64 | OK | ERROR | OK |
| Package: MVCClass |
| Version: 1.6.0 |
| Command: /loc/biocbuild/1.8d/R/bin/R CMD check MVCClass_1.6.0.tar.gz |
| RetCode: 0 |
| Time: 143.3 seconds |
| Status: OK |
| CheckDir: MVCClass.Rcheck |
| Warnings: 0 |
* checking for working latex ... OK * using log directory '/extra/loc/biocbuild/1.8d/Rpacks/MVCClass.Rcheck' * using Version 2.3.1 (2006-06-01) * checking for file 'MVCClass/DESCRIPTION' ... OK * this is package 'MVCClass' version '1.6.0' * checking package dependencies ... OK * checking if this is a source package ... OK * checking whether package 'MVCClass' can be installed ... OK * checking package directory ... OK * checking for portable file names ... OK * checking for sufficient/correct file permissions ... OK * checking DESCRIPTION meta-information ... OK * checking top-level files ... OK * checking index information ... OK * checking package subdirectories ... OK * checking R files for syntax errors ... OK * checking R files for library.dynam ... OK * checking S3 generic/method consistency ... OK * checking replacement functions ... OK * checking foreign function calls ... OK * checking Rd files ... OK * checking for missing documentation entries ... OK * checking for code/documentation mismatches ... OK * checking Rd \usage sections ... OK * creating MVCClass-Ex.R ... OK * checking examples ... OK * checking package vignettes in 'inst/doc' ... OK * creating MVCClass-manual.tex ... OK * checking MVCClass-manual.tex ... OK
MVCClass.Rcheck/00install.out:
* Installing *source* package 'MVCClass' ...
** R
** inst
** help
>>> Building/Updating help pages for package 'MVCClass'
Formats: text html latex example
MVC-class text html latex example
dfModel-class text html latex example
exprModel-class text html latex example
gAddChildMessage-class text html latex example
gAddDataMessage-class text html latex example
gAddMessage-class text html latex example
gAddViewMessage-class text html latex example
gEventFun-class text html latex example
gMessage-class text html latex example
gModel-class text html latex example
gSendChildMessage-class text html latex example
gSendParentMessage-class text html latex example
gUpdateDataMessage-class text html latex example
gUpdateMessage-class text html latex example
gUpdateViewMessage-class text html latex example
genView-class text html latex example
graphModel-class text html latex example
graphView-class text html latex example
heatmapView-class text html latex example
plotView-class text html latex example
sPlotView-class text html latex example
spreadView-class text html latex example
** building package indices ...
* DONE (MVCClass)