Back to the "Multiple platform build/check report"
| Package 167/172 | OS | Arch | BUILD | CHECK | BUILD BIN |
vsn1.10.0Wolfgang Huber | Linux (SUSE 9.2) | x86_64 | OK | OK | |
| Linux (SUSE 9.2) | i686 | OK | OK | ||
| Solaris 2.9 | sparc | OK | OK | ||
| Linux (SUSE 10.0) | x86_64 | OK | OK | ||
| Windows Server 2003 | x86_64 | OK | [ OK ] | OK |
| Package: vsn |
| Version: 1.10.0 |
| Command: D:\biocbld\1.8d\R\bin\R.exe CMD check vsn_1.10.0.tar.gz |
| RetCode: 0 |
| Time: 523.4 seconds |
| Status: OK |
| CheckDir: vsn.Rcheck |
| Warnings: 0 |
* checking for working latex ... OK * using log directory 'D:/biocbld/1.8d/Rpacks/vsn.Rcheck' * using Version 2.3.1 (2006-06-01) * checking for file 'vsn/DESCRIPTION' ... OK * this is package 'vsn' version '1.10.0' * checking package dependencies ... OK * checking if this is a source package ... OK * checking whether package 'vsn' can be installed ... OK * checking package directory ... OK * checking for portable file names ... OK * checking DESCRIPTION meta-information ... OK * checking top-level files ... OK * checking index information ... OK * checking package subdirectories ... OK * checking R files for syntax errors ... OK * checking R files for library.dynam ... OK * checking S3 generic/method consistency ... OK * checking replacement functions ... OK * checking foreign function calls ... OK * checking Rd files ... OK * checking for missing documentation entries ... OK * checking for code/documentation mismatches ... OK * checking Rd \usage sections ... OK * checking for CRLF line endings in C/C++/Fortran sources/headers ... OK * creating vsn-Ex.R ... OK * checking examples ... OK * checking package vignettes in 'inst/doc' ... OK * creating vsn-manual.tex ... OK * checking vsn-manual.tex ... OK
vsn.Rcheck/00install.out:
installing R.css in D:/biocbld/1.8d/Rpacks/vsn.Rcheck
---------- Making package vsn ------------
adding build stamp to DESCRIPTION
installing NAMESPACE file and metadata
making DLL ...
making vsn.d from vsn.c
gcc -Id:/biocbld/1.8d/R/include -Wall -O2 -c vsn.c -o vsn.o
windres --include-dir d:/biocbld/1.8d/R/include -i vsn_res.rc -o vsn_res.o
gcc -shared -s -o vsn.dll vsn.def vsn.o vsn_res.o -Ld:/biocbld/1.8d/R/bin -lR
... DLL made
installing DLL
installing R files
installing inst files
installing data files
installing man source files
installing indices
not zipping data
installing help
>>> Building/Updating help pages for package 'vsn'
Formats: text html latex example chm
getIntensityMatrix text html latex example chm
kidney text html latex example chm
lymphoma text html latex example chm
meanSdPlot text html latex example chm
nchoosek text html latex example chm
normalize.AffyBatch.vsn text html latex example chm
sagmbSimulateData text html latex example chm
vsn text html latex example chm
vsnPlotPar text html latex example chm
vsnh text html latex example chm
Microsoft HTML Help Compiler 4.74.8702
Compiling d:\biocbld\1.8d\Rpacks\vsn.Rcheck\00_pkg_src\vsn\chm\vsn.chm
Compile time: 0 minutes, 0 seconds
11 Topics
48 Local links
7 Internet links
1 Graphic
Created d:\biocbld\1.8d\Rpacks\vsn.Rcheck\00_pkg_src\vsn\chm\vsn.chm, 37,209 bytes
Compression decreased file by 12,153 bytes.
adding MD5 sums
* DONE (vsn)