Back to the "Multiple platform build/check report"
| Package 166/172 | OS | Arch | BUILD | CHECK | BUILD BIN |
twilight1.8.0Stefanie Scheid | Linux (SUSE 9.2) | x86_64 | OK | OK | |
| Linux (SUSE 9.2) | i686 | OK | OK | ||
| Solaris 2.9 | sparc | OK | OK | ||
| Linux (SUSE 10.0) | x86_64 | OK | OK | ||
| Windows Server 2003 | x86_64 | OK | [ OK ] | OK |
| Package: twilight |
| Version: 1.8.0 |
| Command: D:\biocbld\1.8d\R\bin\R.exe CMD check twilight_1.8.0.tar.gz |
| RetCode: 0 |
| Time: 377.8 seconds |
| Status: OK |
| CheckDir: twilight.Rcheck |
| Warnings: 0 |
* checking for working latex ... OK * using log directory 'D:/biocbld/1.8d/Rpacks/twilight.Rcheck' * using Version 2.3.1 (2006-06-01) * checking for file 'twilight/DESCRIPTION' ... OK * this is package 'twilight' version '1.8.0' * checking package dependencies ... OK * checking if this is a source package ... OK * checking whether package 'twilight' can be installed ... OK * checking package directory ... OK * checking for portable file names ... OK * checking DESCRIPTION meta-information ... OK * checking top-level files ... OK * checking index information ... OK * checking package subdirectories ... OK * checking R files for syntax errors ... OK * checking R files for library.dynam ... OK * checking S3 generic/method consistency ... OK * checking replacement functions ... OK * checking foreign function calls ... OK * checking Rd files ... OK * checking for missing documentation entries ... OK * checking for code/documentation mismatches ... OK * checking Rd \usage sections ... OK * checking for CRLF line endings in C/C++/Fortran sources/headers ... OK * creating twilight-Ex.R ... OK * checking examples ... OK * checking package vignettes in 'inst/doc' ... OK * creating twilight-manual.tex ... OK * checking twilight-manual.tex ... OK
twilight.Rcheck/00install.out:
installing R.css in D:/biocbld/1.8d/Rpacks/twilight.Rcheck
---------- Making package twilight ------------
adding build stamp to DESCRIPTION
making DLL ...
making confidence.line.d from confidence.line.c
making correlation.d from correlation.c
making kstest.d from kstest.c
making sep.d from sep.c
making twosample.perm.d from twosample.perm.c
making twosample.single.d from twosample.single.c
gcc -Id:/biocbld/1.8d/R/include -Wall -O2 -c confidence.line.c -o confidence.line.o
gcc -Id:/biocbld/1.8d/R/include -Wall -O2 -c correlation.c -o correlation.o
gcc -Id:/biocbld/1.8d/R/include -Wall -O2 -c kstest.c -o kstest.o
gcc -Id:/biocbld/1.8d/R/include -Wall -O2 -c sep.c -o sep.o
gcc -Id:/biocbld/1.8d/R/include -Wall -O2 -c twosample.perm.c -o twosample.perm.o
gcc -Id:/biocbld/1.8d/R/include -Wall -O2 -c twosample.single.c -o twosample.single.o
windres --include-dir d:/biocbld/1.8d/R/include -i twilight_res.rc -o twilight_res.o
gcc -shared -s -o twilight.dll twilight.def confidence.line.o correlation.o kstest.o sep.o twosample.perm.o twosample.single.o twilight_res.o -Ld:/biocbld/1.8d/R/bin -lR
... DLL made
installing DLL
installing R files
installing inst files
installing data files
installing man source files
installing indices
not zipping data
installing help
>>> Building/Updating help pages for package 'twilight'
Formats: text html latex example chm
exfdr text html latex chm
expval text html latex chm
plot.twilight text html latex example chm
print.twilight text html latex example chm
twilight text html latex example chm
twilight.combi text html latex example chm
twilight.filtering text html latex example chm
twilight.getlambda text html latex chm
twilight.getmatrix text html latex chm
twilight.permute.pair text html latex chm
twilight.permute.unpair text html latex chm
twilight.pval text html latex example chm
twilight.teststat text html latex example chm
Microsoft HTML Help Compiler 4.74.8702
Compiling d:\biocbld\1.8d\Rpacks\twilight.Rcheck\00_pkg_src\twilight\chm\twilight.chm
Compile time: 0 minutes, 0 seconds
14 Topics
46 Local links
11 Internet links
1 Graphic
Created d:\biocbld\1.8d\Rpacks\twilight.Rcheck\00_pkg_src\twilight\chm\twilight.chm, 34,307 bytes
Compression decreased file by 17,122 bytes.
preparing package twilight for lazy loading
adding MD5 sums
* DONE (twilight)