Back to the "Multiple platform build/check report"
| Package 158/172 | OS | Arch | BUILD | CHECK | BUILD BIN |
spotSegmentation1.4.0Chris Fraley | Linux (SUSE 9.2) | x86_64 | OK | OK | |
| Linux (SUSE 9.2) | i686 | OK | OK | ||
| Solaris 2.9 | sparc | OK | OK | ||
| Linux (SUSE 10.0) | x86_64 | OK | OK | ||
| Windows Server 2003 | x86_64 | OK | [ OK ] | OK |
| Package: spotSegmentation |
| Version: 1.4.0 |
| Command: D:\biocbld\1.8d\R\bin\R.exe CMD check spotSegmentation_1.4.0.tar.gz |
| RetCode: 0 |
| Time: 75.6 seconds |
| Status: OK |
| CheckDir: spotSegmentation.Rcheck |
| Warnings: 0 |
* checking for working latex ... OK * using log directory 'D:/biocbld/1.8d/Rpacks/spotSegmentation.Rcheck' * using Version 2.3.1 (2006-06-01) * checking for file 'spotSegmentation/DESCRIPTION' ... OK * this is package 'spotSegmentation' version '1.4.0' * checking package dependencies ... OK * checking if this is a source package ... OK * checking whether package 'spotSegmentation' can be installed ... OK * checking package directory ... OK * checking for portable file names ... OK * checking DESCRIPTION meta-information ... OK * checking top-level files ... OK * checking index information ... OK * checking package subdirectories ... OK * checking R files for syntax errors ... OK * checking R files for library.dynam ... OK * checking S3 generic/method consistency ... OK * checking replacement functions ... OK * checking foreign function calls ... OK * checking Rd files ... OK * checking for missing documentation entries ... OK * checking for code/documentation mismatches ... OK * checking Rd \usage sections ... OK * creating spotSegmentation-Ex.R ... OK * checking examples ... OK * creating spotSegmentation-manual.tex ... OK * checking spotSegmentation-manual.tex ... OK
spotSegmentation.Rcheck/00install.out:
installing R.css in D:/biocbld/1.8d/Rpacks/spotSegmentation.Rcheck
---------- Making package spotSegmentation ------------
adding build stamp to DESCRIPTION
installing R files
installing inst files
installing data files
installing man source files
installing indices
not zipping data
installing help
>>> Building/Updating help pages for package 'spotSegmentation'
Formats: text html latex example chm
plot.spotseg text html latex example chm
plotBlockImage text html latex example chm
spotSegTest text html latex chm
spotgrid text html latex example chm
spotseg text html latex example chm
summary.spotseg text html latex example chm
Microsoft HTML Help Compiler 4.74.8702
Compiling d:\biocbld\1.8d\Rpacks\spotSegmentation.Rcheck\00_pkg_src\spotSegmentation\chm\spotSegmentation.chm
Compile time: 0 minutes, 0 seconds
7 Topics
19 Local links
1 Internet link
1 Graphic
Created d:\biocbld\1.8d\Rpacks\spotSegmentation.Rcheck\00_pkg_src\spotSegmentation\chm\spotSegmentation.chm, 23,991 bytes
Compression decreased file by 453 bytes.
preparing package spotSegmentation for lazy loading
adding MD5 sums
* DONE (spotSegmentation)