Back to the "Multiple platform build/check report"
| Package 154/172 | OS | Arch | BUILD | CHECK | BUILD BIN |
sizepower1.2.0Weiliang Qiu | Linux (SUSE 9.2) | x86_64 | OK | OK | |
| Linux (SUSE 9.2) | i686 | OK | OK | ||
| Solaris 2.9 | sparc | OK | OK | ||
| Linux (SUSE 10.0) | x86_64 | OK | OK | ||
| Windows Server 2003 | x86_64 | OK | [ OK ] | OK |
| Package: sizepower |
| Version: 1.2.0 |
| Command: D:\biocbld\1.8d\R\bin\R.exe CMD check sizepower_1.2.0.tar.gz |
| RetCode: 0 |
| Time: 23.5 seconds |
| Status: OK |
| CheckDir: sizepower.Rcheck |
| Warnings: 0 |
* checking for working latex ... OK * using log directory 'D:/biocbld/1.8d/Rpacks/sizepower.Rcheck' * using Version 2.3.1 (2006-06-01) * checking for file 'sizepower/DESCRIPTION' ... OK * this is package 'sizepower' version '1.2.0' * checking package dependencies ... OK * checking if this is a source package ... OK * checking whether package 'sizepower' can be installed ... OK * checking package directory ... OK * checking for portable file names ... OK * checking DESCRIPTION meta-information ... OK * checking top-level files ... OK * checking index information ... OK * checking package subdirectories ... OK * checking R files for syntax errors ... OK * checking R files for library.dynam ... OK * checking S3 generic/method consistency ... OK * checking replacement functions ... OK * checking foreign function calls ... OK * checking Rd files ... OK * checking for missing documentation entries ... OK * checking for code/documentation mismatches ... OK * checking Rd \usage sections ... OK * creating sizepower-Ex.R ... OK * checking examples ... OK * checking package vignettes in 'inst/doc' ... OK * creating sizepower-manual.tex ... OK * checking sizepower-manual.tex ... OK
sizepower.Rcheck/00install.out:
installing R.css in D:/biocbld/1.8d/Rpacks/sizepower.Rcheck
---------- Making package sizepower ------------
adding build stamp to DESCRIPTION
installing NAMESPACE file and metadata
installing R files
installing inst files
installing man source files
installing indices
installing help
>>> Building/Updating help pages for package 'sizepower'
Formats: text html latex example chm
powerMatched text html latex example chm
powerMulti text html latex example chm
powerRandomized text html latex example chm
sampleSizeMatched text html latex example chm
sampleSizeRandomized text html latex example chm
Microsoft HTML Help Compiler 4.74.8702
Compiling d:\biocbld\1.8d\Rpacks\sizepower.Rcheck\00_pkg_src\sizepower\chm\sizepower.chm
Compile time: 0 minutes, 0 seconds
6 Topics
30 Local links
5 Internet links
1 Graphic
Created d:\biocbld\1.8d\Rpacks\sizepower.Rcheck\00_pkg_src\sizepower\chm\sizepower.chm, 21,503 bytes
Compression decreased file by 5,038 bytes.
adding MD5 sums
* DONE (sizepower)