Back to the "Multiple platform build/check report"
| Package 153/172 | OS | Arch | BUILD | CHECK | BUILD BIN |
simulatorAPMS1.4.0Tony Chiang | Linux (SUSE 9.2) | x86_64 | OK | OK | |
| Linux (SUSE 9.2) | i686 | OK | OK | ||
| Solaris 2.9 | sparc | ERROR | skipped | ||
| Linux (SUSE 10.0) | x86_64 | OK | OK | ||
| Windows Server 2003 | x86_64 | OK | [ OK ] | OK |
| Package: simulatorAPMS |
| Version: 1.4.0 |
| Command: D:\biocbld\1.8d\R\bin\R.exe CMD check simulatorAPMS_1.4.0.tar.gz |
| RetCode: 0 |
| Time: 338.4 seconds |
| Status: OK |
| CheckDir: simulatorAPMS.Rcheck |
| Warnings: 0 |
* checking for working latex ... OK * using log directory 'D:/biocbld/1.8d/Rpacks/simulatorAPMS.Rcheck' * using Version 2.3.1 (2006-06-01) * checking for file 'simulatorAPMS/DESCRIPTION' ... OK * this is package 'simulatorAPMS' version '1.4.0' * checking package dependencies ... OK * checking if this is a source package ... OK * checking whether package 'simulatorAPMS' can be installed ... OK * checking package directory ... OK * checking for portable file names ... OK * checking DESCRIPTION meta-information ... OK * checking top-level files ... OK * checking index information ... OK * checking package subdirectories ... OK * checking R files for syntax errors ... OK * checking R files for library.dynam ... OK * checking S3 generic/method consistency ... OK * checking replacement functions ... OK * checking foreign function calls ... OK * checking Rd files ... OK * checking for missing documentation entries ... OK * checking for code/documentation mismatches ... OK * checking Rd \usage sections ... OK * creating simulatorAPMS-Ex.R ... OK * checking examples ... OK * checking package vignettes in 'inst/doc' ... OK * creating simulatorAPMS-manual.tex ... OK * checking simulatorAPMS-manual.tex ... OK
simulatorAPMS.Rcheck/00install.out:
installing R.css in D:/biocbld/1.8d/Rpacks/simulatorAPMS.Rcheck
---------- Making package simulatorAPMS ------------
adding build stamp to DESCRIPTION
installing R files
installing inst files
installing data files
installing man source files
installing indices
not zipping data
installing help
>>> Building/Updating help pages for package 'simulatorAPMS'
Formats: text html latex example chm
APComEX text html latex example chm
PPIEX text html latex example chm
TSNMatrix text html latex example chm
applyDeformationError text html latex example chm
applyFNErrors text html latex example chm
applyFPErrors text html latex example chm
applyStickyError text html latex example chm
compIndep text html latex example chm
filteredProt text html latex example chm
fullSimEX text html latex example chm
missedProtEX text html latex example chm
missedProtHMSPCI text html latex example chm
recordSticky text html latex example chm
runAPComplex text html latex example chm
runCompIndep text html latex example chm
runSimEX text html latex example chm
runSimulators text html latex example chm
simEX text html latex example chm
simulator text html latex example chm
simulatorD text html latex example chm
simulatorS text html latex example chm
vBaits text html latex example chm
vBaitsEX text html latex example chm
vDeformEX text html latex example chm
vDeformed text html latex example chm
vDeformedEX text html latex example chm
vStickyEX text html latex example chm
Microsoft HTML Help Compiler 4.74.8702
Compiling d:\biocbld\1.8d\Rpacks\simulatorAPMS.Rcheck\00_pkg_src\simulatorAPMS\chm\simulatorAPMS.chm
Compile time: 0 minutes, 0 seconds
28 Topics
78 Local links
0 Internet links
1 Graphic
Created d:\biocbld\1.8d\Rpacks\simulatorAPMS.Rcheck\00_pkg_src\simulatorAPMS\chm\simulatorAPMS.chm, 36,395 bytes
Compression decreased file by 28,816 bytes.
adding MD5 sums
* DONE (simulatorAPMS)