Back to the "Multiple platform build/check report"
| Package 151/172 | OS | Arch | BUILD | CHECK | BUILD BIN |
siggenes1.6.0Holger Schwender | Linux (SUSE 9.2) | x86_64 | OK | OK | |
| Linux (SUSE 9.2) | i686 | OK | OK | ||
| Solaris 2.9 | sparc | OK | OK | ||
| Linux (SUSE 10.0) | x86_64 | OK | OK | ||
| Windows Server 2003 | x86_64 | OK | [ OK ] | OK |
| Package: siggenes |
| Version: 1.6.0 |
| Command: D:\biocbld\1.8d\R\bin\R.exe CMD check siggenes_1.6.0.tar.gz |
| RetCode: 0 |
| Time: 73.5 seconds |
| Status: OK |
| CheckDir: siggenes.Rcheck |
| Warnings: 0 |
* checking for working latex ... OK * using log directory 'D:/biocbld/1.8d/Rpacks/siggenes.Rcheck' * using Version 2.3.1 (2006-06-01) * checking for file 'siggenes/DESCRIPTION' ... OK * this is package 'siggenes' version '1.6.0' * checking package dependencies ... OK * checking if this is a source package ... OK * checking whether package 'siggenes' can be installed ... OK * checking package directory ... OK * checking for portable file names ... OK * checking DESCRIPTION meta-information ... OK * checking top-level files ... OK * checking index information ... OK * checking package subdirectories ... OK * checking R files for syntax errors ... OK * checking R files for library.dynam ... OK * checking S3 generic/method consistency ... OK * checking replacement functions ... OK * checking foreign function calls ... OK * checking Rd files ... OK * checking for missing documentation entries ... OK * checking for code/documentation mismatches ... OK * checking Rd \usage sections ... OK * creating siggenes-Ex.R ... OK * checking examples ... OK * checking package vignettes in 'inst/doc' ... OK * creating siggenes-manual.tex ... OK * checking siggenes-manual.tex ... OK
siggenes.Rcheck/00install.out:
installing R.css in D:/biocbld/1.8d/Rpacks/siggenes.Rcheck
---------- Making package siggenes ------------
adding build stamp to DESCRIPTION
installing R files
installing inst files
installing man source files
installing indices
installing help
>>> Building/Updating help pages for package 'siggenes'
Formats: text html latex example chm
SAM-class text html latex example chm
delta.plot text html latex example chm
ebam text html latex example chm
ebam.wilc text html latex example chm
find.a0 text html latex example chm
fudge2 text html latex chm
help.sam text html latex example chm
link.genes text html latex chm
link.siggenes text html latex chm
list.siggenes text html latex example chm
na.handling text html latex example chm
na.replace.cont text html latex chm
na.replace.dist text html latex chm
pi0.est text html latex example chm
qvalue.cal text html latex example chm
sam text html latex example chm
sam.dstat text html latex example chm
sam.plot2 text html latex example chm
sam.snp text html latex chm
sam.wilc text html latex example chm
sam2excel text html latex chm
sam2html text html latex chm
siggenes-internal text html latex chm
sumSAM-class text html latex chm
Microsoft HTML Help Compiler 4.74.8702
Compiling d:\biocbld\1.8d\Rpacks\siggenes.Rcheck\00_pkg_src\siggenes\chm\siggenes.chm
Compile time: 0 minutes, 0 seconds
25 Topics
135 Local links
7 Internet links
1 Graphic
Created d:\biocbld\1.8d\Rpacks\siggenes.Rcheck\00_pkg_src\siggenes\chm\siggenes.chm, 65,741 bytes
Compression decreased file by 79,774 bytes.
preparing package siggenes for lazy loading
Welcome to Bioconductor
Vignettes contain introductory material. To view, type
'openVignette()' or start with 'help(Biobase)'. For details
on reading vignettes, see the openVignette help page.
Creating a new generic function for 'print' in 'siggenes'
Creating a new generic function for 'identify' in 'siggenes'
adding MD5 sums
* DONE (siggenes)