Back to the "Multiple platform build/check report"
| Package 137/172 | OS | Arch | BUILD | CHECK | BUILD BIN |
rfcdmin1.4.0N. Le Meur | Linux (SUSE 9.2) | x86_64 | OK | OK | |
| Linux (SUSE 9.2) | i686 | OK | OK | ||
| Solaris 2.9 | sparc | OK | OK | ||
| Linux (SUSE 10.0) | x86_64 | OK | OK | ||
| Windows Server 2003 | x86_64 | OK | [ OK ] | OK |
| Package: rfcdmin |
| Version: 1.4.0 |
| Command: D:\biocbld\1.8d\R\bin\R.exe CMD check rfcdmin_1.4.0.tar.gz |
| RetCode: 0 |
| Time: 108.8 seconds |
| Status: OK |
| CheckDir: rfcdmin.Rcheck |
| Warnings: 0 |
* checking for working latex ... OK * using log directory 'D:/biocbld/1.8d/Rpacks/rfcdmin.Rcheck' * using Version 2.3.1 (2006-06-01) * checking for file 'rfcdmin/DESCRIPTION' ... OK * this is package 'rfcdmin' version '1.4.0' * checking package dependencies ... OK * checking if this is a source package ... OK * checking whether package 'rfcdmin' can be installed ... OK * checking package directory ... OK * checking for portable file names ... OK * checking DESCRIPTION meta-information ... OK * checking top-level files ... OK * checking index information ... OK * checking package subdirectories ... OK * checking Rd files ... OK * checking for missing documentation entries ... OK * checking for code/documentation mismatches ... OK * checking Rd \usage sections ... OK * creating rfcdmin-Ex.R ... OK * checking examples ... OK * creating rfcdmin-manual.tex ... OK * checking rfcdmin-manual.tex ... OK
rfcdmin.Rcheck/00install.out:
installing R.css in D:/biocbld/1.8d/Rpacks/rfcdmin.Rcheck
---------- Making package rfcdmin ------------
adding build stamp to DESCRIPTION
no R files in this package
installing inst files
installing data files
installing man source files
installing indices
not zipping data
installing help
>>> Building/Updating help pages for package 'rfcdmin'
Formats: text html latex example chm
FCSRobj.currentmin text html latex example chm
FCSRobjmin text html latex example chm
MC.053min text html latex example chm
PRIM.example.data text html latex example chm
PRIM.real.data.min text html latex example chm
PerPosROCmin text html latex example chm
SEB-NP22.fcs text html latex example chm
VRCmin text html latex example chm
facscan256.fcs text html latex example chm
flowcyt.data text html latex example chm
flowcyt.fcs text html latex example chm
flowcyt.fluors text html latex example chm
Microsoft HTML Help Compiler 4.74.8702
Compiling d:\biocbld\1.8d\Rpacks\rfcdmin.Rcheck\00_pkg_src\rfcdmin\chm\rfcdmin.chm
Compile time: 0 minutes, 0 seconds
13 Topics
81 Local links
0 Internet links
1 Graphic
Created d:\biocbld\1.8d\Rpacks\rfcdmin.Rcheck\00_pkg_src\rfcdmin\chm\rfcdmin.chm, 35,837 bytes
Compression decreased file by 27,289 bytes.
adding MD5 sums
* DONE (rfcdmin)