Back to the "Multiple platform build/check report"
| Package 126/172 | OS | Arch | BUILD | CHECK | BUILD BIN |
prada1.8.0Florian Hahne | Linux (SUSE 9.2) | x86_64 | OK | OK | |
| Linux (SUSE 9.2) | i686 | OK | OK | ||
| Solaris 2.9 | sparc | OK | OK | ||
| Linux (SUSE 10.0) | x86_64 | OK | OK | ||
| Windows Server 2003 | x86_64 | OK | [ OK ] | OK |
| Package: prada |
| Version: 1.8.0 |
| Command: D:\biocbld\1.8d\R\bin\R.exe CMD check prada_1.8.0.tar.gz |
| RetCode: 0 |
| Time: 81.6 seconds |
| Status: OK |
| CheckDir: prada.Rcheck |
| Warnings: 0 |
* checking for working latex ... OK * using log directory 'D:/biocbld/1.8d/Rpacks/prada.Rcheck' * using Version 2.3.1 (2006-06-01) * checking for file 'prada/DESCRIPTION' ... OK * this is package 'prada' version '1.8.0' * checking package dependencies ... OK * checking if this is a source package ... OK * checking whether package 'prada' can be installed ... OK * checking package directory ... OK * checking for portable file names ... OK * checking DESCRIPTION meta-information ... OK * checking top-level files ... OK * checking index information ... OK * checking package subdirectories ... OK * checking R files for syntax errors ... OK * checking R files for library.dynam ... OK * checking S3 generic/method consistency ... OK * checking replacement functions ... OK * checking foreign function calls ... OK * checking Rd files ... OK * checking for missing documentation entries ... OK * checking for code/documentation mismatches ... OK * checking Rd \usage sections ... OK * checking for CRLF line endings in C/C++/Fortran sources/headers ... OK * creating prada-Ex.R ... OK * checking examples ... OK * checking package vignettes in 'inst/doc' ... OK * creating prada-manual.tex ... OK * checking prada-manual.tex ... OK
prada.Rcheck/00install.out:
installing R.css in D:/biocbld/1.8d/Rpacks/prada.Rcheck
---------- Making package prada ------------
adding build stamp to DESCRIPTION
installing NAMESPACE file and metadata
making DLL ...
making inPolygon.d from inPolygon.c
gcc -Id:/biocbld/1.8d/R/include -Wall -O2 -c inPolygon.c -o inPolygon.o
windres --include-dir d:/biocbld/1.8d/R/include -i prada_res.rc -o prada_res.o
gcc -shared -s -o prada.dll prada.def inPolygon.o prada_res.o -Ld:/biocbld/1.8d/R/bin -lR
... DLL made
installing DLL
installing R files
save image
Loading required package: Biobase
Loading required package: tools
Welcome to Bioconductor
Vignettes contain introductory material. To view, type
'openVignette()' or start with 'help(Biobase)'. For details
on reading vignettes, see the openVignette help page.
Loading required package: RColorBrewer
Loading required package: grid
KernSmooth 2.22 installed
Copyright M. P. Wand 1997
installing inst files
installing man source files
installing indices
installing help
>>> Building/Updating help pages for package 'prada'
Formats: text html latex example chm
analysePlate text html latex example chm
as.all text html latex example chm
barploterrbar text html latex example chm
combineFrames text html latex example chm
csApply text html latex example chm
cytoFrame-class text html latex example chm
cytoSet-class text html latex example chm
ddCt text html latex example chm
ddCtSet-class text html latex chm
devDims text html latex example chm
devRes text html latex example chm
eListWrite text html latex example chm
fitNorm2 text html latex example chm
gate-class text html latex example chm
gateSet-class text html latex example chm
getPradaPar text html latex example chm
new-internal text html latex chm
plotNorm2 text html latex example chm
plotPlate text html latex example chm
readCytoSet text html latex example chm
readFCS text html latex example chm
readFCSaux text html latex example chm
readSDM text html latex example chm
removeCensored text html latex example chm
threePanelPlot text html latex example chm
thresholds text html latex example chm
touchFCS text html latex chm
vpLocation text html latex example chm
Microsoft HTML Help Compiler 4.74.8702
Compiling d:\biocbld\1.8d\Rpacks\prada.Rcheck\00_pkg_src\prada\chm\prada.chm
Compile time: 0 minutes, 0 seconds
29 Topics
123 Local links
11 Internet links
1 Graphic
Created d:\biocbld\1.8d\Rpacks\prada.Rcheck\00_pkg_src\prada\chm\prada.chm, 57,761 bytes
Compression decreased file by 71,863 bytes.
preparing package prada for lazy loading
Welcome to Bioconductor
Vignettes contain introductory material. To view, type
'openVignette()' or start with 'help(Biobase)'. For details
on reading vignettes, see the openVignette help page.
adding MD5 sums
* DONE (prada)