Back to the "Multiple platform build/check report"
| Package 125/172 | OS | Arch | BUILD | CHECK | BUILD BIN |
plier1.4.0Crispin Miller | Linux (SUSE 9.2) | x86_64 | OK | OK | |
| Linux (SUSE 9.2) | i686 | OK | OK | ||
| Solaris 2.9 | sparc | OK | OK | ||
| Linux (SUSE 10.0) | x86_64 | OK | OK | ||
| Windows Server 2003 | x86_64 | [ OK ] | OK | OK |
| Package: plier |
| Version: 1.4.0 |
| Command: D:\biocbld\1.8d\R\bin\R.exe CMD build plier |
| RetCode: 0 |
| Time: 1.5 seconds |
| Status: OK |
| PackageFile: plier_1.4.0.tar.gz |
* checking for file 'plier/DESCRIPTION' ... OK * preparing 'plier': * checking DESCRIPTION meta-information ... OK * cleaning src * removing junk files * checking for LF line-endings in source files * checking for empty or unneeded directories * building 'plier_1.4.0.tar.gz'