Back to the "Multiple platform build/check report"
| Package 121/172 | OS | Arch | BUILD | CHECK | BUILD BIN |
pdmclass1.4.1James W. MacDonald | Linux (SUSE 9.2) | x86_64 | OK | OK | |
| Linux (SUSE 9.2) | i686 | OK | OK | ||
| Solaris 2.9 | sparc | OK | OK | ||
| Linux (SUSE 10.0) | x86_64 | OK | OK | ||
| Windows Server 2003 | x86_64 | OK | [ OK ] | OK |
| Package: pdmclass |
| Version: 1.4.1 |
| Command: D:\biocbld\1.8d\R\bin\R.exe CMD check pdmclass_1.4.1.tar.gz |
| RetCode: 0 |
| Time: 375.1 seconds |
| Status: OK |
| CheckDir: pdmclass.Rcheck |
| Warnings: 0 |
* checking for working latex ... OK * using log directory 'D:/biocbld/1.8d/Rpacks/pdmclass.Rcheck' * using Version 2.3.1 (2006-06-01) * checking for file 'pdmclass/DESCRIPTION' ... OK * checking extension type ... Package * this is package 'pdmclass' version '1.4.1' * checking package dependencies ... OK * checking if this is a source package ... OK * checking whether package 'pdmclass' can be installed ... OK * checking package directory ... OK * checking for portable file names ... OK * checking DESCRIPTION meta-information ... OK * checking top-level files ... OK * checking index information ... OK * checking package subdirectories ... OK * checking R files for syntax errors ... OK * checking R files for library.dynam ... OK * checking S3 generic/method consistency ... OK * checking replacement functions ... OK * checking foreign function calls ... OK * checking Rd files ... OK * checking for missing documentation entries ... OK * checking for code/documentation mismatches ... OK * checking Rd \usage sections ... OK * creating pdmclass-Ex.R ... OK * checking examples ... OK * checking package vignettes in 'inst/doc' ... OK * creating pdmclass-manual.tex ... OK * checking pdmclass-manual.tex ... OK
pdmclass.Rcheck/00install.out:
installing R.css in D:/biocbld/1.8d/Rpacks/pdmclass.Rcheck
---------- Making package pdmclass ------------
adding build stamp to DESCRIPTION
installing NAMESPACE file and metadata
installing R files
installing inst files
installing man source files
Warning messages:
1: incomplete final line found by readLines on './man/pdmClass.Rd'
2: incomplete final line found by readLines on './man/pdmClass.cv.Rd'
3: incomplete final line found by readLines on './man/pls1c.Rd'
4: incomplete final line found by readLines on './man/predict.pls.Rd'
5: incomplete final line found by readLines on './man/svdpls1c.Rd'
installing indices
installing help
>>> Building/Updating help pages for package 'pdmclass'
Formats: text html latex example chm
my.svd text html latex chm
pdmClass text html latex example chm
pdmClass.cv text html latex example chm
pdmGenes text html latex example chm
pls1c text html latex chm
predict.pls text html latex example chm
svdpls1c text html latex chm
svdr text html latex chm
Microsoft HTML Help Compiler 4.74.8702
Compiling d:\biocbld\1.8d\Rpacks\pdmclass.Rcheck\00_pkg_src\pdmclass\chm\pdmclass.chm
Compile time: 0 minutes, 0 seconds
9 Topics
13 Local links
0 Internet links
1 Graphic
Created d:\biocbld\1.8d\Rpacks\pdmclass.Rcheck\00_pkg_src\pdmclass\chm\pdmclass.chm, 27,367 bytes
Compression decreased file by 4,655 bytes.
adding MD5 sums
* DONE (pdmclass)