Back to the "Multiple platform build/check report"
| Package 119/172 | OS | Arch | BUILD | CHECK | BUILD BIN |
panp1.2.0Peter Warren | Linux (SUSE 9.2) | x86_64 | OK | OK | |
| Linux (SUSE 9.2) | i686 | OK | OK | ||
| Solaris 2.9 | sparc | OK | OK | ||
| Linux (SUSE 10.0) | x86_64 | OK | OK | ||
| Windows Server 2003 | x86_64 | OK | [ OK ] | OK |
| Package: panp |
| Version: 1.2.0 |
| Command: D:\biocbld\1.8d\R\bin\R.exe CMD check panp_1.2.0.tar.gz |
| RetCode: 0 |
| Time: 86.5 seconds |
| Status: OK |
| CheckDir: panp.Rcheck |
| Warnings: 0 |
* checking for working latex ... OK * using log directory 'D:/biocbld/1.8d/Rpacks/panp.Rcheck' * using Version 2.3.1 (2006-06-01) * checking for file 'panp/DESCRIPTION' ... OK * this is package 'panp' version '1.2.0' * checking package dependencies ... OK * checking if this is a source package ... OK * checking whether package 'panp' can be installed ... OK * checking package directory ... OK * checking for portable file names ... OK * checking DESCRIPTION meta-information ... OK * checking top-level files ... OK * checking index information ... OK * checking package subdirectories ... OK * checking R files for syntax errors ... OK * checking R files for library.dynam ... OK * checking S3 generic/method consistency ... OK * checking replacement functions ... OK * checking foreign function calls ... OK * checking Rd files ... OK * checking for missing documentation entries ... OK * checking for code/documentation mismatches ... OK * checking Rd \usage sections ... OK * creating panp-Ex.R ... OK * checking examples ... OK * checking package vignettes in 'inst/doc' ... OK * creating panp-manual.tex ... OK * checking panp-manual.tex ... OK
panp.Rcheck/00install.out:
installing R.css in D:/biocbld/1.8d/Rpacks/panp.Rcheck
---------- Making package panp ------------
adding build stamp to DESCRIPTION
installing R files
installing inst files
installing data files
installing man source files
Warning messages:
1: incomplete final line found by readLines on './man/NSMPnames.hgu133a.Rd'
2: incomplete final line found by readLines on './man/NSMPnames.hgu133plus2.Rd'
3: incomplete final line found by readLines on './man/gcrma.exprSet.Rd'
4: incomplete final line found by readLines on './man/test133a.Rd'
installing indices
not zipping data
installing help
>>> Building/Updating help pages for package 'panp'
Formats: text html latex example chm
NSMPnames.hgu133a text html latex chm
NSMPnames.hgu133plus2 text html latex chm
gcrma.exprSet text html latex chm
pa.calls text html latex example chm
test133a text html latex chm
Microsoft HTML Help Compiler 4.74.8702
Compiling d:\biocbld\1.8d\Rpacks\panp.Rcheck\00_pkg_src\panp\chm\panp.chm
Compile time: 0 minutes, 0 seconds
6 Topics
10 Local links
0 Internet links
1 Graphic
Created d:\biocbld\1.8d\Rpacks\panp.Rcheck\00_pkg_src\panp\chm\panp.chm, 20,845 bytes
Compression increased file by 4,673 bytes.
adding MD5 sums
* DONE (panp)