Back to the "Multiple platform build/check report"
| Package 99/172 | OS | Arch | BUILD | CHECK | BUILD BIN |
matchprobes1.4.0Biocore Team | Linux (SUSE 9.2) | x86_64 | OK | OK | |
| Linux (SUSE 9.2) | i686 | OK | OK | ||
| Solaris 2.9 | sparc | OK | OK | ||
| Linux (SUSE 10.0) | x86_64 | OK | OK | ||
| Windows Server 2003 | x86_64 | OK | [ OK ] | OK |
| Package: matchprobes |
| Version: 1.4.0 |
| Command: D:\biocbld\1.8d\R\bin\R.exe CMD check matchprobes_1.4.0.tar.gz |
| RetCode: 0 |
| Time: 433.7 seconds |
| Status: OK |
| CheckDir: matchprobes.Rcheck |
| Warnings: 0 |
* checking for working latex ... OK * using log directory 'D:/biocbld/1.8d/Rpacks/matchprobes.Rcheck' * using Version 2.3.1 (2006-06-01) * checking for file 'matchprobes/DESCRIPTION' ... OK * this is package 'matchprobes' version '1.4.0' * checking package dependencies ... OK * checking if this is a source package ... OK * checking whether package 'matchprobes' can be installed ... OK * checking package directory ... OK * checking for portable file names ... OK * checking DESCRIPTION meta-information ... OK * checking top-level files ... OK * checking index information ... OK * checking package subdirectories ... OK * checking R files for syntax errors ... OK * checking R files for library.dynam ... OK * checking S3 generic/method consistency ... OK * checking replacement functions ... OK * checking foreign function calls ... OK * checking Rd files ... OK * checking for missing documentation entries ... OK * checking for code/documentation mismatches ... OK * checking Rd \usage sections ... OK * checking for CRLF line endings in C/C++/Fortran sources/headers ... OK * creating matchprobes-Ex.R ... OK * checking examples ... OK * checking package vignettes in 'inst/doc' ... OK * creating matchprobes-manual.tex ... OK * checking matchprobes-manual.tex ... OK
matchprobes.Rcheck/00install.out:
installing R.css in D:/biocbld/1.8d/Rpacks/matchprobes.Rcheck
---------- Making package matchprobes ------------
adding build stamp to DESCRIPTION
making DLL ...
making main.d from main.c
making strutils.d from strutils.c
gcc -Id:/biocbld/1.8d/R/include -Wall -O2 -c main.c -o main.o
gcc -Id:/biocbld/1.8d/R/include -Wall -O2 -c strutils.c -o strutils.o
windres --include-dir d:/biocbld/1.8d/R/include -i matchprobes_res.rc -o matchprobes_res.o
gcc -shared -s -o matchprobes.dll matchprobes.def main.o strutils.o matchprobes_res.o -Ld:/biocbld/1.8d/R/bin -lR
... DLL made
installing DLL
installing R files
save image
Loading required package: Biobase
Loading required package: tools
Welcome to Bioconductor
Vignettes contain introductory material. To view, type
'openVignette()' or start with 'help(Biobase)'. For details
on reading vignettes, see the openVignette help page.
Loading required package: affy
Loading required package: affyio
installing inst files
installing data files
installing man source files
installing indices
not zipping data
installing help
>>> Building/Updating help pages for package 'matchprobes'
Formats: text html latex example chm
basecontent text html latex example chm
combineAffyBatch text html latex example chm
complementSeq text html latex example chm
getProbeDataAffy text html latex example chm
getProbeData_1lq text html latex example chm
longestConsecutive text html latex example chm
makeProbePackage text html latex example chm
matchprobes text html latex example chm
print.probetable text html latex example chm
reverseSeq text html latex example chm
Microsoft HTML Help Compiler 4.74.8702
Compiling d:\biocbld\1.8d\Rpacks\matchprobes.Rcheck\00_pkg_src\matchprobes\chm\matchprobes.chm
Compile time: 0 minutes, 0 seconds
11 Topics
31 Local links
1 Internet link
1 Graphic
Created d:\biocbld\1.8d\Rpacks\matchprobes.Rcheck\00_pkg_src\matchprobes\chm\matchprobes.chm, 29,679 bytes
Compression decreased file by 7,398 bytes.
adding MD5 sums
* DONE (matchprobes)