Back to the "Multiple platform build/check report"
| Package 90/172 | OS | Arch | BUILD | CHECK | BUILD BIN |
macat1.6.0Joern Toedling | Linux (SUSE 9.2) | x86_64 | OK | WARNINGS | |
| Linux (SUSE 9.2) | i686 | OK | WARNINGS | ||
| Solaris 2.9 | sparc | OK | WARNINGS | ||
| Linux (SUSE 10.0) | x86_64 | OK | WARNINGS | ||
| Windows Server 2003 | x86_64 | OK | [ OK ] | OK |
| Package: macat |
| Version: 1.6.0 |
| Command: D:\biocbld\1.8d\R\bin\R.exe CMD check macat_1.6.0.tar.gz |
| RetCode: 0 |
| Time: 437.5 seconds |
| Status: OK |
| CheckDir: macat.Rcheck |
| Warnings: 0 |
* checking for working latex ... OK * using log directory 'D:/biocbld/1.8d/Rpacks/macat.Rcheck' * using Version 2.3.1 (2006-06-01) * checking for file 'macat/DESCRIPTION' ... OK * this is package 'macat' version '1.6.0' * checking package dependencies ... OK * checking if this is a source package ... OK * checking whether package 'macat' can be installed ... OK * checking package directory ... OK * checking for portable file names ... OK * checking DESCRIPTION meta-information ... OK * checking top-level files ... OK * checking index information ... OK * checking package subdirectories ... OK * checking R files for syntax errors ... OK * checking R files for library.dynam ... OK * checking S3 generic/method consistency ... OK * checking replacement functions ... OK * checking foreign function calls ... OK * checking Rd files ... OK * checking for missing documentation entries ... OK * checking for code/documentation mismatches ... OK * checking Rd \usage sections ... OK * creating macat-Ex.R ... OK * checking examples ... OK * checking package vignettes in 'inst/doc' ... OK * creating macat-manual.tex ... OK * checking macat-manual.tex ... OK
macat.Rcheck/00install.out:
installing R.css in D:/biocbld/1.8d/Rpacks/macat.Rcheck
---------- Making package macat ------------
adding build stamp to DESCRIPTION
installing R files
installing demos
installing inst files
installing data files
installing man source files
installing indices
not zipping data
installing help
>>> Building/Updating help pages for package 'macat'
Formats: text html latex example chm
buildMACAT text html latex example chm
compute.sliding text html latex example chm
discreteKernelize text html latex example chm
discretize text html latex chm
discretize.tscores text html latex example chm
discretizeAll text html latex example chm
evalScoring text html latex example chm
evaluateParameters text html latex example chm
get.results text html latex example chm
html text html latex chm
kernelize text html latex example chm
kernelizeAll text html latex example chm
kernelizeToPython text html latex example chm
kernels text html latex example chm
loaddatapkg text html latex example chm
macat-internal text html latex chm
plot.MACATevalScoring text html latex example chm
preprocessedLoader text html latex example chm
pythondata text html latex example chm
scoring text html latex example chm
stjd text html latex example chm
Microsoft HTML Help Compiler 4.74.8702
Compiling d:\biocbld\1.8d\Rpacks\macat.Rcheck\00_pkg_src\macat\chm\macat.chm
Compile time: 0 minutes, 0 seconds
22 Topics
85 Local links
0 Internet links
1 Graphic
Created d:\biocbld\1.8d\Rpacks\macat.Rcheck\00_pkg_src\macat\chm\macat.chm, 44,365 bytes
Compression decreased file by 36,335 bytes.
preparing package macat for lazy loading
Welcome to Bioconductor
Vignettes contain introductory material. To view, type
'openVignette()' or start with 'help(Biobase)'. For details
on reading vignettes, see the openVignette help page.
adding MD5 sums
* DONE (macat)