Back to the "Multiple platform build/check report"
| Package 87/172 | OS | Arch | BUILD | CHECK | BUILD BIN |
logicFS1.2.0Holger Schwender | Linux (SUSE 9.2) | x86_64 | OK | OK | |
| Linux (SUSE 9.2) | i686 | OK | OK | ||
| Solaris 2.9 | sparc | OK | OK | ||
| Linux (SUSE 10.0) | x86_64 | OK | OK | ||
| Windows Server 2003 | x86_64 | OK | [ OK ] | OK |
| Package: logicFS |
| Version: 1.2.0 |
| Command: D:\biocbld\1.8d\R\bin\R.exe CMD check logicFS_1.2.0.tar.gz |
| RetCode: 0 |
| Time: 75.5 seconds |
| Status: OK |
| CheckDir: logicFS.Rcheck |
| Warnings: 0 |
* checking for working latex ... OK * using log directory 'D:/biocbld/1.8d/Rpacks/logicFS.Rcheck' * using Version 2.3.1 (2006-06-01) * checking for file 'logicFS/DESCRIPTION' ... OK * this is package 'logicFS' version '1.2.0' * checking package dependencies ... OK * checking if this is a source package ... OK * checking whether package 'logicFS' can be installed ... OK * checking package directory ... OK * checking for portable file names ... OK * checking DESCRIPTION meta-information ... OK * checking top-level files ... OK * checking index information ... OK * checking package subdirectories ... OK * checking R files for syntax errors ... OK * checking R files for library.dynam ... OK * checking S3 generic/method consistency ... OK * checking replacement functions ... OK * checking foreign function calls ... OK * checking Rd files ... OK * checking for missing documentation entries ... OK * checking for code/documentation mismatches ... OK * checking Rd \usage sections ... OK * creating logicFS-Ex.R ... OK * checking examples ... OK * checking package vignettes in 'inst/doc' ... OK * creating logicFS-manual.tex ... OK * checking logicFS-manual.tex ... OK
logicFS.Rcheck/00install.out:
installing R.css in D:/biocbld/1.8d/Rpacks/logicFS.Rcheck
---------- Making package logicFS ------------
adding build stamp to DESCRIPTION
installing R files
installing inst files
installing data files
installing man source files
installing indices
not zipping data
installing help
>>> Building/Updating help pages for package 'logicFS'
Formats: text html latex example chm
data.logicfs text html latex chm
logic.bagging text html latex example chm
logic.fs text html latex example chm
logic.vim text html latex chm
logicFS-internal text html latex chm
make.snp.dummy text html latex chm
minDNF text html latex chm
plot.logicFS text html latex chm
predict.logicBagg text html latex chm
print.logicFS text html latex chm
Microsoft HTML Help Compiler 4.74.8702
Compiling d:\biocbld\1.8d\Rpacks\logicFS.Rcheck\00_pkg_src\logicFS\chm\logicFS.chm
Compile time: 0 minutes, 0 seconds
11 Topics
43 Local links
0 Internet links
1 Graphic
Created d:\biocbld\1.8d\Rpacks\logicFS.Rcheck\00_pkg_src\logicFS\chm\logicFS.chm, 28,425 bytes
Compression decreased file by 12,987 bytes.
adding MD5 sums
* DONE (logicFS)