Back to the "Multiple platform build/check report"
| Package 80/172 | OS | Arch | BUILD | CHECK | BUILD BIN |
idiogram1.6.0Karl J. Dykema | Linux (SUSE 9.2) | x86_64 | OK | OK | |
| Linux (SUSE 9.2) | i686 | OK | OK | ||
| Solaris 2.9 | sparc | OK | OK | ||
| Linux (SUSE 10.0) | x86_64 | OK | OK | ||
| Windows Server 2003 | x86_64 | OK | [ OK ] | OK |
| Package: idiogram |
| Version: 1.6.0 |
| Command: D:\biocbld\1.8d\R\bin\R.exe CMD check idiogram_1.6.0.tar.gz |
| RetCode: 0 |
| Time: 64.5 seconds |
| Status: OK |
| CheckDir: idiogram.Rcheck |
| Warnings: 0 |
* checking for working latex ... OK * using log directory 'D:/biocbld/1.8d/Rpacks/idiogram.Rcheck' * using Version 2.3.1 (2006-06-01) * checking for file 'idiogram/DESCRIPTION' ... OK * this is package 'idiogram' version '1.6.0' * checking package dependencies ... OK * checking if this is a source package ... OK * checking whether package 'idiogram' can be installed ... OK * checking package directory ... OK * checking for portable file names ... OK * checking DESCRIPTION meta-information ... OK * checking top-level files ... OK * checking index information ... OK * checking package subdirectories ... OK * checking R files for syntax errors ... OK * checking R files for library.dynam ... OK * checking S3 generic/method consistency ... OK * checking replacement functions ... OK * checking foreign function calls ... OK * checking Rd files ... OK * checking for missing documentation entries ... OK * checking for code/documentation mismatches ... OK * checking Rd \usage sections ... OK * creating idiogram-Ex.R ... OK * checking examples ... OK * checking package vignettes in 'inst/doc' ... OK * creating idiogram-manual.tex ... OK * checking idiogram-manual.tex ... OK
idiogram.Rcheck/00install.out:
installing R.css in D:/biocbld/1.8d/Rpacks/idiogram.Rcheck
---------- Making package idiogram ------------
adding build stamp to DESCRIPTION
installing NAMESPACE file and metadata
installing R files
installing inst files
installing data files
preparing package idiogram for lazy data loading
installing man source files
installing indices
installing help
>>> Building/Updating help pages for package 'idiogram'
Formats: text html latex example chm
Hs.cytoband text html latex example chm
buildChromLocation.2 text html latex example chm
cytoband text html latex example chm
idiograb text html latex example chm
idiogram text html latex example chm
idiogramExample text html latex example chm
Microsoft HTML Help Compiler 4.74.8702
Compiling d:\biocbld\1.8d\Rpacks\idiogram.Rcheck\00_pkg_src\idiogram\chm\idiogram.chm
Compile time: 0 minutes, 0 seconds
7 Topics
22 Local links
0 Internet links
1 Graphic
Created d:\biocbld\1.8d\Rpacks\idiogram.Rcheck\00_pkg_src\idiogram\chm\idiogram.chm, 27,283 bytes
Compression decreased file by 592 bytes.
adding MD5 sums
* DONE (idiogram)