Back to the "Multiple platform build/check report"
| Package 64/172 | OS | Arch | BUILD | CHECK | BUILD BIN |
gff3Plotter1.6.0Oleg Sklyar | Linux (SUSE 9.2) | x86_64 | OK | OK | |
| Linux (SUSE 9.2) | i686 | OK | OK | ||
| Solaris 2.9 | sparc | OK | OK | ||
| Linux (SUSE 10.0) | x86_64 | OK | OK | ||
| Windows Server 2003 | x86_64 | OK | [ OK ] | OK |
| Package: gff3Plotter |
| Version: 1.6.0 |
| Command: D:\biocbld\1.8d\R\bin\R.exe CMD check gff3Plotter_1.6.0.tar.gz |
| RetCode: 0 |
| Time: 39.2 seconds |
| Status: OK |
| CheckDir: gff3Plotter.Rcheck |
| Warnings: 0 |
* checking for working latex ... OK * using log directory 'D:/biocbld/1.8d/Rpacks/gff3Plotter.Rcheck' * using Version 2.3.1 (2006-06-01) * checking for file 'gff3Plotter/DESCRIPTION' ... OK * this is package 'gff3Plotter' version '1.6.0' * checking package dependencies ... OK * checking if this is a source package ... OK * checking whether package 'gff3Plotter' can be installed ... OK * checking package directory ... OK * checking for portable file names ... OK * checking DESCRIPTION meta-information ... OK * checking top-level files ... OK * checking index information ... OK * checking package subdirectories ... OK * checking R files for syntax errors ... OK * checking R files for library.dynam ... OK * checking S3 generic/method consistency ... OK * checking replacement functions ... OK * checking foreign function calls ... OK * checking Rd files ... OK * checking for missing documentation entries ... OK * checking for code/documentation mismatches ... OK * checking Rd \usage sections ... OK * creating gff3Plotter-Ex.R ... OK * checking examples ... OK * checking package vignettes in 'inst/doc' ... OK * creating gff3Plotter-manual.tex ... OK * checking gff3Plotter-manual.tex ... OK
gff3Plotter.Rcheck/00install.out:
installing R.css in D:/biocbld/1.8d/Rpacks/gff3Plotter.Rcheck
---------- Making package gff3Plotter ------------
adding build stamp to DESCRIPTION
installing R files
save image
[1] "plot.gff"
[1] "plot.gff"
installing inst files
installing man source files
installing indices
installing help
>>> Building/Updating help pages for package 'gff3Plotter'
Formats: text html latex example chm
getAttr text html latex example chm
getTickCoords text html latex example chm
internals text html latex chm
plot.gff text html latex example chm
plot.gff.toFile text html latex example chm
read.gff text html latex example chm
Microsoft HTML Help Compiler 4.74.8702
Compiling d:\biocbld\1.8d\Rpacks\gff3Plotter.Rcheck\00_pkg_src\gff3Plotter\chm\gff3Plotter.chm
Compile time: 0 minutes, 0 seconds
7 Topics
27 Local links
1 Internet link
1 Graphic
Created d:\biocbld\1.8d\Rpacks\gff3Plotter.Rcheck\00_pkg_src\gff3Plotter\chm\gff3Plotter.chm, 24,409 bytes
Compression decreased file by 768 bytes.
adding MD5 sums
* DONE (gff3Plotter)