Back to the "Multiple platform build/check report"
| Package 46/172 | OS | Arch | BUILD | CHECK | BUILD BIN |
ecolitk1.4.0Laurent | Linux (SUSE 9.2) | x86_64 | OK | OK | |
| Linux (SUSE 9.2) | i686 | OK | OK | ||
| Solaris 2.9 | sparc | OK | OK | ||
| Linux (SUSE 10.0) | x86_64 | OK | OK | ||
| Windows Server 2003 | x86_64 | OK | [ OK ] | OK |
| Package: ecolitk |
| Version: 1.4.0 |
| Command: D:\biocbld\1.8d\R\bin\R.exe CMD check ecolitk_1.4.0.tar.gz |
| RetCode: 0 |
| Time: 100.6 seconds |
| Status: OK |
| CheckDir: ecolitk.Rcheck |
| Warnings: 0 |
* checking for working latex ... OK * using log directory 'D:/biocbld/1.8d/Rpacks/ecolitk.Rcheck' * using Version 2.3.1 (2006-06-01) * checking for file 'ecolitk/DESCRIPTION' ... OK * this is package 'ecolitk' version '1.4.0' * checking package dependencies ... OK * checking if this is a source package ... OK * checking whether package 'ecolitk' can be installed ... OK * checking package directory ... OK * checking for portable file names ... OK * checking DESCRIPTION meta-information ... OK * checking top-level files ... OK * checking index information ... OK * checking package subdirectories ... OK * checking R files for syntax errors ... OK * checking R files for library.dynam ... OK * checking S3 generic/method consistency ... OK * checking replacement functions ... OK * checking foreign function calls ... OK * checking Rd files ... OK * checking for missing documentation entries ... OK * checking for code/documentation mismatches ... OK * checking Rd \usage sections ... OK * creating ecolitk-Ex.R ... OK * checking examples ... OK * checking package vignettes in 'inst/doc' ... OK * creating ecolitk-manual.tex ... OK * checking ecolitk-manual.tex ... OK
ecolitk.Rcheck/00install.out:
installing R.css in D:/biocbld/1.8d/Rpacks/ecolitk.Rcheck
---------- Making package ecolitk ------------
adding build stamp to DESCRIPTION
installing R files
installing inst files
installing data files
installing man source files
installing indices
not zipping data
installing help
>>> Building/Updating help pages for package 'ecolitk'
Formats: text html latex example chm
ecoli.data text html latex example chm
ecoligenome.operon text html latex example chm
ecoligenomeBNUM text html latex chm
ecoligenomeBNUM2MULTIFUN text html latex chm
gccontent text html latex chm
linkedmultiget text html latex example chm
multiFun text html latex example chm
pointsCircle text html latex example chm
polar2xy text html latex example chm
polygonChrom text html latex example chm
wstringapply text html latex example chm
Microsoft HTML Help Compiler 4.74.8702
Compiling d:\biocbld\1.8d\Rpacks\ecolitk.Rcheck\00_pkg_src\ecolitk\chm\ecolitk.chm
Compile time: 0 minutes, 0 seconds
12 Topics
46 Local links
4 Internet links
1 Graphic
Created d:\biocbld\1.8d\Rpacks\ecolitk.Rcheck\00_pkg_src\ecolitk\chm\ecolitk.chm, 29,407 bytes
Compression decreased file by 12,897 bytes.
adding MD5 sums
* DONE (ecolitk)