Back to the "Multiple platform build/check report"
| Package 39/172 | OS | Arch | BUILD | CHECK | BUILD BIN |
daMA1.4.0Jobst Landgrebe | Linux (SUSE 9.2) | x86_64 | OK | OK | |
| Linux (SUSE 9.2) | i686 | OK | OK | ||
| Solaris 2.9 | sparc | OK | OK | ||
| Linux (SUSE 10.0) | x86_64 | OK | OK | ||
| Windows Server 2003 | x86_64 | OK | [ OK ] | OK |
| Package: daMA |
| Version: 1.4.0 |
| Command: D:\biocbld\1.8d\R\bin\R.exe CMD check daMA_1.4.0.tar.gz |
| RetCode: 0 |
| Time: 28.6 seconds |
| Status: OK |
| CheckDir: daMA.Rcheck |
| Warnings: 0 |
* checking for working latex ... OK * using log directory 'D:/biocbld/1.8d/Rpacks/daMA.Rcheck' * using Version 2.3.1 (2006-06-01) * checking for file 'daMA/DESCRIPTION' ... OK * this is package 'daMA' version '1.4.0' * checking package dependencies ... OK * checking if this is a source package ... OK * checking whether package 'daMA' can be installed ... OK * checking package directory ... OK * checking for portable file names ... OK * checking DESCRIPTION meta-information ... OK * checking top-level files ... OK * checking index information ... OK * checking package subdirectories ... OK * checking R files for syntax errors ... OK * checking R files for library.dynam ... OK * checking S3 generic/method consistency ... OK * checking replacement functions ... OK * checking foreign function calls ... OK * checking Rd files ... OK * checking for missing documentation entries ... OK * checking for code/documentation mismatches ... OK * checking Rd \usage sections ... OK * creating daMA-Ex.R ... OK * checking examples ... OK * creating daMA-manual.tex ... OK * checking daMA-manual.tex ... OK
daMA.Rcheck/00install.out:
installing R.css in D:/biocbld/1.8d/Rpacks/daMA.Rcheck
---------- Making package daMA ------------
adding build stamp to DESCRIPTION
installing R files
installing data files
installing man source files
installing indices
not zipping data
installing help
>>> Building/Updating help pages for package 'daMA'
Formats: text html latex example chm
analyseMA text html latex example chm
cinfo text html latex example chm
cinfoB.AB text html latex example chm
cmat text html latex example chm
cmatB.AB text html latex example chm
core text html latex example chm
data.3x2 text html latex example chm
designMA text html latex example chm
designs.basic text html latex chm
designs.composite text html latex example chm
id.3x2 text html latex example chm
Microsoft HTML Help Compiler 4.74.8702
Compiling d:\biocbld\1.8d\Rpacks\daMA.Rcheck\00_pkg_src\daMA\chm\daMA.chm
Compile time: 0 minutes, 0 seconds
12 Topics
22 Local links
6 Internet links
1 Graphic
Created d:\biocbld\1.8d\Rpacks\daMA.Rcheck\00_pkg_src\daMA\chm\daMA.chm, 28,565 bytes
Compression decreased file by 7,950 bytes.
adding MD5 sums
* DONE (daMA)