Back to the "Multiple platform build/check report"
| Package 31/172 | OS | Arch | BUILD | CHECK | BUILD BIN |
cghMCR1.2.0J. Zhang | Linux (SUSE 9.2) | x86_64 | OK | OK | |
| Linux (SUSE 9.2) | i686 | OK | OK | ||
| Solaris 2.9 | sparc | OK | OK | ||
| Linux (SUSE 10.0) | x86_64 | OK | OK | ||
| Windows Server 2003 | x86_64 | OK | [ OK ] | OK |
| Package: cghMCR |
| Version: 1.2.0 |
| Command: D:\biocbld\1.8d\R\bin\R.exe CMD check cghMCR_1.2.0.tar.gz |
| RetCode: 0 |
| Time: 133.4 seconds |
| Status: OK |
| CheckDir: cghMCR.Rcheck |
| Warnings: 0 |
* checking for working latex ... OK * using log directory 'D:/biocbld/1.8d/Rpacks/cghMCR.Rcheck' * using Version 2.3.1 (2006-06-01) * checking for file 'cghMCR/DESCRIPTION' ... OK * this is package 'cghMCR' version '1.2.0' * checking package dependencies ... OK * checking if this is a source package ... OK * checking whether package 'cghMCR' can be installed ... OK * checking package directory ... OK * checking for portable file names ... OK * checking DESCRIPTION meta-information ... OK * checking top-level files ... OK * checking index information ... OK * checking package subdirectories ... OK * checking R files for syntax errors ... OK * checking R files for library.dynam ... OK * checking S3 generic/method consistency ... OK * checking replacement functions ... OK * checking foreign function calls ... OK * checking Rd files ... OK * checking for missing documentation entries ... OK * checking for code/documentation mismatches ... OK * checking Rd \usage sections ... OK * creating cghMCR-Ex.R ... OK * checking examples ... OK * checking package vignettes in 'inst/doc' ... OK * creating cghMCR-manual.tex ... OK * checking cghMCR-manual.tex ... OK
cghMCR.Rcheck/00install.out:
installing R.css in D:/biocbld/1.8d/Rpacks/cghMCR.Rcheck
---------- Making package cghMCR ------------
adding build stamp to DESCRIPTION
installing NAMESPACE file and metadata
installing R files
save image
Loading required package: DNAcopy
Loading required package: marray
Loading required package: limma
Creating a new generic function for 'print' in 'cghMCR'
installing inst files
installing data files
installing man source files
installing indices
not zipping data
installing help
>>> Building/Updating help pages for package 'cghMCR'
Formats: text html latex example chm
cghMCR-class text html latex example chm
cghMCR text html latex example chm
mergeMCRProbes text html latex example chm
plot.DNAcopy text html latex example chm
Microsoft HTML Help Compiler 4.74.8702
Compiling d:\biocbld\1.8d\Rpacks\cghMCR.Rcheck\00_pkg_src\cghMCR\chm\cghMCR.chm
Compile time: 0 minutes, 0 seconds
5 Topics
27 Local links
0 Internet links
1 Graphic
Created d:\biocbld\1.8d\Rpacks\cghMCR.Rcheck\00_pkg_src\cghMCR\chm\cghMCR.chm, 20,991 bytes
Compression increased file by 1,044 bytes.
adding MD5 sums
* DONE (cghMCR)