Back to the "Multiple platform build/check report"
| Package 30/172 | OS | Arch | BUILD | CHECK | BUILD BIN |
cellHTS1.2.0Wolfgang Huber | Linux (SUSE 9.2) | x86_64 | OK | OK | |
| Linux (SUSE 9.2) | i686 | OK | OK | ||
| Solaris 2.9 | sparc | OK | OK | ||
| Linux (SUSE 10.0) | x86_64 | OK | OK | ||
| Windows Server 2003 | x86_64 | OK | [ OK ] | OK |
| Package: cellHTS |
| Version: 1.2.0 |
| Command: D:\biocbld\1.8d\R\bin\R.exe CMD check cellHTS_1.2.0.tar.gz |
| RetCode: 0 |
| Time: 67.0 seconds |
| Status: OK |
| CheckDir: cellHTS.Rcheck |
| Warnings: 0 |
* checking for working latex ... OK * using log directory 'D:/biocbld/1.8d/Rpacks/cellHTS.Rcheck' * using Version 2.3.1 (2006-06-01) * checking for file 'cellHTS/DESCRIPTION' ... OK * this is package 'cellHTS' version '1.2.0' * checking package dependencies ... OK * checking if this is a source package ... OK * checking whether package 'cellHTS' can be installed ... OK * checking package directory ... OK * checking for portable file names ... OK * checking DESCRIPTION meta-information ... OK * checking top-level files ... OK * checking index information ... OK * checking package subdirectories ... OK * checking R files for syntax errors ... OK * checking R files for library.dynam ... OK * checking S3 generic/method consistency ... OK * checking replacement functions ... OK * checking foreign function calls ... OK * checking Rd files ... OK * checking for missing documentation entries ... OK * checking for code/documentation mismatches ... OK * checking Rd \usage sections ... OK * creating cellHTS-Ex.R ... OK * checking examples ... OK * creating cellHTS-manual.tex ... OK * checking cellHTS-manual.tex ... OK
cellHTS.Rcheck/00install.out:
installing R.css in D:/biocbld/1.8d/Rpacks/cellHTS.Rcheck
---------- Making package cellHTS ------------
adding build stamp to DESCRIPTION
installing NAMESPACE file and metadata
installing R files
installing inst files
installing data files
installing man source files
installing indices
not zipping data
installing help
>>> Building/Updating help pages for package 'cellHTS'
Formats: text html latex example chm
ROC text html latex example chm
annotate text html latex example chm
bdgpbiomart text html latex example chm
configure text html latex example chm
imageScreen text html latex example chm
normalizePlateMedian text html latex example chm
normalizeRatio text html latex example chm
oneRowPerId text html latex example chm
print.cellHTS text html latex example chm
readPlateData text html latex example chm
summarizeReplicates text html latex example chm
writeReport text html latex example chm
Microsoft HTML Help Compiler 4.74.8702
Compiling d:\biocbld\1.8d\Rpacks\cellHTS.Rcheck\00_pkg_src\cellHTS\chm\cellHTS.chm
Compile time: 0 minutes, 0 seconds
13 Topics
27 Local links
0 Internet links
1 Graphic
Created d:\biocbld\1.8d\Rpacks\cellHTS.Rcheck\00_pkg_src\cellHTS\chm\cellHTS.chm, 35,053 bytes
Compression decreased file by 22,255 bytes.
preparing package cellHTS for lazy loading
Welcome to Bioconductor
Vignettes contain introductory material. To view, type
'openVignette()' or start with 'help(Biobase)'. For details
on reading vignettes, see the openVignette help page.
adding MD5 sums
* DONE (cellHTS)