Back to the "Multiple platform build/check report"
| Package 25/172 | OS | Arch | BUILD | CHECK | BUILD BIN |
bioDist1.4.0Biocore Team | Linux (SUSE 9.2) | x86_64 | OK | OK | |
| Linux (SUSE 9.2) | i686 | OK | OK | ||
| Solaris 2.9 | sparc | OK | OK | ||
| Linux (SUSE 10.0) | x86_64 | OK | OK | ||
| Windows Server 2003 | x86_64 | OK | [ OK ] | OK |
| Package: bioDist |
| Version: 1.4.0 |
| Command: D:\biocbld\1.8d\R\bin\R.exe CMD check bioDist_1.4.0.tar.gz |
| RetCode: 0 |
| Time: 44.4 seconds |
| Status: OK |
| CheckDir: bioDist.Rcheck |
| Warnings: 0 |
* checking for working latex ... OK * using log directory 'D:/biocbld/1.8d/Rpacks/bioDist.Rcheck' * using Version 2.3.1 (2006-06-01) * checking for file 'bioDist/DESCRIPTION' ... OK * this is package 'bioDist' version '1.4.0' * checking package dependencies ... OK * checking if this is a source package ... OK * checking whether package 'bioDist' can be installed ... OK * checking package directory ... OK * checking for portable file names ... OK * checking DESCRIPTION meta-information ... OK * checking top-level files ... OK * checking index information ... OK * checking package subdirectories ... OK * checking R files for syntax errors ... OK * checking R files for library.dynam ... OK * checking S3 generic/method consistency ... OK * checking replacement functions ... OK * checking foreign function calls ... OK * checking Rd files ... OK * checking for missing documentation entries ... OK * checking for code/documentation mismatches ... OK * checking Rd \usage sections ... OK * creating bioDist-Ex.R ... OK * checking examples ... OK * creating bioDist-manual.tex ... OK * checking bioDist-manual.tex ... OK
bioDist.Rcheck/00install.out:
installing R.css in D:/biocbld/1.8d/Rpacks/bioDist.Rcheck
---------- Making package bioDist ------------
adding build stamp to DESCRIPTION
installing NAMESPACE file and metadata
installing R files
installing man source files
installing indices
installing help
>>> Building/Updating help pages for package 'bioDist'
Formats: text html latex example chm
KLD.matrix text html latex example chm
KLdist.matrix text html latex example chm
closest.top text html latex example chm
cor.dist text html latex example chm
euc text html latex example chm
man text html latex example chm
mutualInfo text html latex example chm
spearman.dist text html latex example chm
tau.dist text html latex example chm
Microsoft HTML Help Compiler 4.74.8702
Compiling d:\biocbld\1.8d\Rpacks\bioDist.Rcheck\00_pkg_src\bioDist\chm\bioDist.chm
Compile time: 0 minutes, 0 seconds
10 Topics
94 Local links
0 Internet links
1 Graphic
Created d:\biocbld\1.8d\Rpacks\bioDist.Rcheck\00_pkg_src\bioDist\chm\bioDist.chm, 22,611 bytes
Compression decreased file by 12,746 bytes.
adding MD5 sums
* DONE (bioDist)