Back to the "Multiple platform build/check report"
| Package 9/172 | OS | Arch | BUILD | CHECK | BUILD BIN |
affylmGUI1.6.0Keith Satterley | Linux (SUSE 9.2) | x86_64 | OK | OK | |
| Linux (SUSE 9.2) | i686 | OK | OK | ||
| Solaris 2.9 | sparc | OK | OK | ||
| Linux (SUSE 10.0) | x86_64 | OK | OK | ||
| Windows Server 2003 | x86_64 | OK | [ OK ] | OK |
| Package: affylmGUI |
| Version: 1.6.0 |
| Command: D:\biocbld\1.8d\R\bin\R.exe CMD check affylmGUI_1.6.0.tar.gz |
| RetCode: 0 |
| Time: 61.4 seconds |
| Status: OK |
| CheckDir: affylmGUI.Rcheck |
| Warnings: 0 |
* checking for working latex ... OK * using log directory 'D:/biocbld/1.8d/Rpacks/affylmGUI.Rcheck' * using Version 2.3.1 (2006-06-01) * checking for file 'affylmGUI/DESCRIPTION' ... OK * this is package 'affylmGUI' version '1.6.0' * checking package dependencies ... OK * checking if this is a source package ... OK * checking whether package 'affylmGUI' can be installed ... OK * checking package directory ... OK * checking for portable file names ... OK * checking DESCRIPTION meta-information ... OK * checking top-level files ... OK * checking index information ... OK * checking package subdirectories ... OK * checking R files for syntax errors ... OK * checking R files for library.dynam ... OK * checking S3 generic/method consistency ... OK * checking replacement functions ... OK * checking foreign function calls ... OK * checking Rd files ... OK * checking for missing documentation entries ... OK * checking for code/documentation mismatches ... OK * checking Rd \usage sections ... OK * creating affylmGUI-Ex.R ... OK * checking examples ... OK * checking package vignettes in 'inst/doc' ... OK * creating affylmGUI-manual.tex ... OK * checking affylmGUI-manual.tex ... OK
affylmGUI.Rcheck/00install.out:
installing R.css in D:/biocbld/1.8d/Rpacks/affylmGUI.Rcheck
---------- Making package affylmGUI ------------
adding build stamp to DESCRIPTION
installing R files
installing inst files
installing man source files
installing indices
installing help
>>> Building/Updating help pages for package 'affylmGUI'
Formats: text html latex example chm
ALGchangeLog text html latex chm
affylmGUI text html latex chm
Microsoft HTML Help Compiler 4.74.8702
Compiling d:\biocbld\1.8d\Rpacks\affylmGUI.Rcheck\00_pkg_src\affylmGUI\chm\affylmGUI.chm
Compile time: 0 minutes, 0 seconds
3 Topics
109 Local links
0 Internet links
1 Graphic
Created d:\biocbld\1.8d\Rpacks\affylmGUI.Rcheck\00_pkg_src\affylmGUI\chm\affylmGUI.chm, 22,975 bytes
Compression decreased file by 24,585 bytes.
preparing package affylmGUI for lazy loading
Welcome to Bioconductor
Vignettes contain introductory material. To view, type
'openVignette()' or start with 'help(Biobase)'. For details
on reading vignettes, see the openVignette help page.
adding MD5 sums
* DONE (affylmGUI)