Back to the "Multiple platform build/check report"
| Package 7/172 | OS | Arch | BUILD | CHECK | BUILD BIN |
affydata1.8.0Laurent | Linux (SUSE 9.2) | x86_64 | OK | OK | |
| Linux (SUSE 9.2) | i686 | OK | OK | ||
| Solaris 2.9 | sparc | OK | OK | ||
| Linux (SUSE 10.0) | x86_64 | OK | OK | ||
| Windows Server 2003 | x86_64 | OK | [ OK ] | OK |
| Package: affydata |
| Version: 1.8.0 |
| Command: D:\biocbld\1.8d\R\bin\R.exe CMD check affydata_1.8.0.tar.gz |
| RetCode: 0 |
| Time: 108.5 seconds |
| Status: OK |
| CheckDir: affydata.Rcheck |
| Warnings: 0 |
* checking for working latex ... OK * using log directory 'D:/biocbld/1.8d/Rpacks/affydata.Rcheck' * using Version 2.3.1 (2006-06-01) * checking for file 'affydata/DESCRIPTION' ... OK * this is package 'affydata' version '1.8.0' * checking package dependencies ... OK * checking if this is a source package ... OK * checking whether package 'affydata' can be installed ... OK * checking package directory ... OK * checking for portable file names ... OK * checking DESCRIPTION meta-information ... OK * checking top-level files ... OK * checking index information ... OK * checking package subdirectories ... OK * checking R files for syntax errors ... OK * checking R files for library.dynam ... OK * checking S3 generic/method consistency ... OK * checking replacement functions ... OK * checking foreign function calls ... OK * checking Rd files ... OK * checking for missing documentation entries ... OK * checking for code/documentation mismatches ... OK * checking Rd \usage sections ... OK * creating affydata-Ex.R ... OK * checking examples ... OK * checking package vignettes in 'inst/doc' ... OK * creating affydata-manual.tex ... OK * checking affydata-manual.tex ... OK
affydata.Rcheck/00install.out:
installing R.css in D:/biocbld/1.8d/Rpacks/affydata.Rcheck
---------- Making package affydata ------------
adding build stamp to DESCRIPTION
installing R files
installing inst files
installing data files
installing man source files
installing indices
not zipping data
installing help
>>> Building/Updating help pages for package 'affydata'
Formats: text html latex example chm
Dilution text html latex chm
Microsoft HTML Help Compiler 4.74.8702
Compiling d:\biocbld\1.8d\Rpacks\affydata.Rcheck\00_pkg_src\affydata\chm\affydata.chm
Compile time: 0 minutes, 0 seconds
2 Topics
2 Local links
1 Internet link
1 Graphic
Created d:\biocbld\1.8d\Rpacks\affydata.Rcheck\00_pkg_src\affydata\chm\affydata.chm, 16,219 bytes
Compression increased file by 9,129 bytes.
adding MD5 sums
* DONE (affydata)