Back to the "Multiple platform build/check report"
| Package 12/172 | OS | Arch | BUILD | CHECK | BUILD BIN |
affyQCReport1.10.0Craig Parman | Linux (SUSE 9.2) | x86_64 | OK | OK | |
| Linux (SUSE 9.2) | i686 | OK | OK | ||
| Solaris 2.9 | sparc | OK | OK | ||
| Linux (SUSE 10.0) | x86_64 | OK | OK | ||
| Windows Server 2003 | x86_64 | OK | [ OK ] | OK |
| Package: affyQCReport |
| Version: 1.10.0 |
| Command: D:\biocbld\1.8d\R\bin\R.exe CMD check affyQCReport_1.10.0.tar.gz |
| RetCode: 0 |
| Time: 122.5 seconds |
| Status: OK |
| CheckDir: affyQCReport.Rcheck |
| Warnings: 0 |
* checking for working latex ... OK * using log directory 'D:/biocbld/1.8d/Rpacks/affyQCReport.Rcheck' * using Version 2.3.1 (2006-06-01) * checking for file 'affyQCReport/DESCRIPTION' ... OK * this is package 'affyQCReport' version '1.10.0' * checking package dependencies ... OK * checking if this is a source package ... OK * checking whether package 'affyQCReport' can be installed ... OK * checking package directory ... OK * checking for portable file names ... OK * checking DESCRIPTION meta-information ... OK * checking top-level files ... OK * checking index information ... OK * checking package subdirectories ... OK * checking R files for syntax errors ... OK * checking R files for library.dynam ... OK * checking S3 generic/method consistency ... OK * checking replacement functions ... OK * checking foreign function calls ... OK * checking Rd files ... OK * checking for missing documentation entries ... OK * checking for code/documentation mismatches ... OK * checking Rd \usage sections ... OK * creating affyQCReport-Ex.R ... OK * checking examples ... OK * checking package vignettes in 'inst/doc' ... OK * creating affyQCReport-manual.tex ... OK * checking affyQCReport-manual.tex ... OK
affyQCReport.Rcheck/00install.out:
installing R.css in D:/biocbld/1.8d/Rpacks/affyQCReport.Rcheck
---------- Making package affyQCReport ------------
adding build stamp to DESCRIPTION
installing R files
installing inst files
installing man source files
installing indices
installing help
>>> Building/Updating help pages for package 'affyQCReport'
Formats: text html latex example chm
QCReport text html latex example chm
borderQC1 text html latex example chm
borderQC2 text html latex example chm
correlationPlot text html latex example chm
signalDist text html latex example chm
titlePage text html latex example chm
Microsoft HTML Help Compiler 4.74.8702
Compiling d:\biocbld\1.8d\Rpacks\affyQCReport.Rcheck\00_pkg_src\affyQCReport\chm\affyQCReport.chm
Compile time: 0 minutes, 0 seconds
7 Topics
15 Local links
0 Internet links
1 Graphic
Created d:\biocbld\1.8d\Rpacks\affyQCReport.Rcheck\00_pkg_src\affyQCReport\chm\affyQCReport.chm, 19,069 bytes
Compression decreased file by 3,376 bytes.
adding MD5 sums
* DONE (affyQCReport)