Back to the "Multiple platform build/check report"
| Package 155/172 | OS | Arch | BUILD | CHECK | BUILD BIN |
SNAData1.6.0Denise Scholtens | Linux (SUSE 9.2) | x86_64 | OK | OK | |
| Linux (SUSE 9.2) | i686 | OK | OK | ||
| Solaris 2.9 | sparc | OK | OK | ||
| Linux (SUSE 10.0) | x86_64 | OK | OK | ||
| Windows Server 2003 | x86_64 | OK | [ OK ] | OK |
| Package: SNAData |
| Version: 1.6.0 |
| Command: D:\biocbld\1.8d\R\bin\R.exe CMD check SNAData_1.6.0.tar.gz |
| RetCode: 0 |
| Time: 90.5 seconds |
| Status: OK |
| CheckDir: SNAData.Rcheck |
| Warnings: 0 |
* checking for working latex ... OK * using log directory 'D:/biocbld/1.8d/Rpacks/SNAData.Rcheck' * using Version 2.3.1 (2006-06-01) * checking for file 'SNAData/DESCRIPTION' ... OK * this is package 'SNAData' version '1.6.0' * checking package dependencies ... OK * checking if this is a source package ... OK * checking whether package 'SNAData' can be installed ... OK * checking package directory ... OK * checking for portable file names ... OK * checking DESCRIPTION meta-information ... OK * checking top-level files ... OK * checking index information ... OK * checking package subdirectories ... OK * checking R files for syntax errors ... OK * checking R files for library.dynam ... OK * checking S3 generic/method consistency ... OK * checking replacement functions ... OK * checking foreign function calls ... OK * checking Rd files ... OK * checking for missing documentation entries ... OK * checking for code/documentation mismatches ... OK * checking Rd \usage sections ... OK * creating SNAData-Ex.R ... OK * checking examples ... OK * checking package vignettes in 'inst/doc' ... OK * creating SNAData-manual.tex ... OK * checking SNAData-manual.tex ... OK
SNAData.Rcheck/00install.out:
installing R.css in D:/biocbld/1.8d/Rpacks/SNAData.Rcheck
---------- Making package SNAData ------------
adding build stamp to DESCRIPTION
installing R files
installing inst files
installing data files
installing man source files
installing indices
not zipping data
installing help
>>> Building/Updating help pages for package 'SNAData'
Formats: text html latex example chm
CEOclubs text html latex example chm
Countries text html latex example chm
Florentine text html latex example chm
Freeman text html latex example chm
Krackhardt text html latex example chm
Microsoft HTML Help Compiler 4.74.8702
Compiling d:\biocbld\1.8d\Rpacks\SNAData.Rcheck\00_pkg_src\SNAData\chm\SNAData.chm
Compile time: 0 minutes, 0 seconds
6 Topics
24 Local links
0 Internet links
1 Graphic
Created d:\biocbld\1.8d\Rpacks\SNAData.Rcheck\00_pkg_src\SNAData\chm\SNAData.chm, 22,599 bytes
Compression decreased file by 991 bytes.
adding MD5 sums
* DONE (SNAData)