Back to the "Multiple platform build/check report"
| Package 149/172 | OS | Arch | BUILD | CHECK | BUILD BIN |
SBMLR1.26.0Tomas Radivoyevitch | Linux (SUSE 9.2) | x86_64 | OK | OK | |
| Linux (SUSE 9.2) | i686 | OK | OK | ||
| Solaris 2.9 | sparc | OK | OK | ||
| Linux (SUSE 10.0) | x86_64 | OK | OK | ||
| Windows Server 2003 | x86_64 | OK | [ OK ] | OK |
| Package: SBMLR |
| Version: 1.26.0 |
| Command: D:\biocbld\1.8d\R\bin\R.exe CMD check SBMLR_1.26.0.tar.gz |
| RetCode: 0 |
| Time: 78.5 seconds |
| Status: OK |
| CheckDir: SBMLR.Rcheck |
| Warnings: 0 |
* checking for working latex ... OK * using log directory 'D:/biocbld/1.8d/Rpacks/SBMLR.Rcheck' * using Version 2.3.1 (2006-06-01) * checking for file 'SBMLR/DESCRIPTION' ... OK * this is package 'SBMLR' version '1.26.0' * checking package dependencies ... OK * checking if this is a source package ... OK * checking whether package 'SBMLR' can be installed ... OK * checking package directory ... OK * checking for portable file names ... OK * checking DESCRIPTION meta-information ... OK * checking top-level files ... OK * checking index information ... OK * checking package subdirectories ... OK * checking R files for syntax errors ... OK * checking R files for library.dynam ... OK * checking S3 generic/method consistency ... OK * checking replacement functions ... OK * checking foreign function calls ... OK * checking Rd files ... OK * checking for missing documentation entries ... OK * checking for code/documentation mismatches ... OK * checking Rd \usage sections ... OK * creating SBMLR-Ex.R ... OK * checking examples ... OK * creating SBMLR-manual.tex ... OK * checking SBMLR-manual.tex ... OK
SBMLR.Rcheck/00install.out:
installing R.css in D:/biocbld/1.8d/Rpacks/SBMLR.Rcheck
---------- Making package SBMLR ------------
adding build stamp to DESCRIPTION
installing R files
installing inst files
installing man source files
installing indices
installing help
>>> Building/Updating help pages for package 'SBMLR'
Formats: text html latex example chm
equateModels text html latex example chm
makeLaw text html latex example chm
readSBML text html latex example chm
readSBMLR text html latex example chm
saveSBML text html latex example chm
saveSBMLR text html latex example chm
simulate text html latex example chm
summary.SBML text html latex example chm
Microsoft HTML Help Compiler 4.74.8702
Compiling d:\biocbld\1.8d\Rpacks\SBMLR.Rcheck\00_pkg_src\SBMLR\chm\SBMLR.chm
Compile time: 0 minutes, 0 seconds
9 Topics
22 Local links
0 Internet links
1 Graphic
Created d:\biocbld\1.8d\Rpacks\SBMLR.Rcheck\00_pkg_src\SBMLR\chm\SBMLR.chm, 24,955 bytes
Compression decreased file by 3,076 bytes.
preparing package SBMLR for lazy loading
adding MD5 sums
* DONE (SBMLR)