Back to the "Multiple platform build/check report"
| Package 145/172 | OS | Arch | BUILD | CHECK | BUILD BIN |
Ruuid1.10.0Biocore Team | Linux (SUSE 9.2) | x86_64 | OK | OK | |
| Linux (SUSE 9.2) | i686 | OK | OK | ||
| Solaris 2.9 | sparc | OK | OK | ||
| Linux (SUSE 10.0) | x86_64 | OK | OK | ||
| Windows Server 2003 | x86_64 | OK | [ OK ] | OK |
| Package: Ruuid |
| Version: 1.10.0 |
| Command: D:\biocbld\1.8d\R\bin\R.exe CMD check Ruuid_1.10.0.tar.gz |
| RetCode: 0 |
| Time: 64.5 seconds |
| Status: OK |
| CheckDir: Ruuid.Rcheck |
| Warnings: 0 |
* checking for working latex ... OK * using log directory 'D:/biocbld/1.8d/Rpacks/Ruuid.Rcheck' * using Version 2.3.1 (2006-06-01) * checking for file 'Ruuid/DESCRIPTION' ... OK * this is package 'Ruuid' version '1.10.0' * checking package dependencies ... OK * checking if this is a source package ... OK * checking whether package 'Ruuid' can be installed ... OK * checking package directory ... OK * checking for portable file names ... OK * checking DESCRIPTION meta-information ... OK * checking top-level files ... OK * checking index information ... OK * checking package subdirectories ... OK * checking R files for syntax errors ... OK * checking R files for library.dynam ... OK * checking S3 generic/method consistency ... OK * checking replacement functions ... OK * checking foreign function calls ... OK * checking Rd files ... OK * checking for missing documentation entries ... OK * checking for code/documentation mismatches ... OK * checking Rd \usage sections ... OK * checking for CRLF line endings in C/C++/Fortran sources/headers ... OK * checking for portable compilation flags in Makevars ... OK * creating Ruuid-Ex.R ... OK * checking examples ... OK * checking package vignettes in 'inst/doc' ... OK * creating Ruuid-manual.tex ... OK * checking Ruuid-manual.tex ... OK
Ruuid.Rcheck/00install.out:
installing R.css in D:/biocbld/1.8d/Rpacks/Ruuid.Rcheck
---------- Making package Ruuid ------------
**********************************************
WARNING: this package has a configure script
It probably needs manual configuration
**********************************************
adding build stamp to DESCRIPTION
installing NAMESPACE file and metadata
running src/Makefile.win ...
gcc -Id:/biocbld/1.8d/R/src/include -O2 -DWin32 -c Ruuid.c -o Ruuid.o
Ruuid.c: In function `UUID2uuidt':
Ruuid.c:33: warning: passing arg 2 of `uuid_pack' from incompatible pointer type
gcc -Id:/biocbld/1.8d/R/src/include -O2 -DWin32 -c pack.c -o pack.o
gcc -Id:/biocbld/1.8d/R/src/include -O2 -DWin32 -c parse.c -o parse.o
gcc -Id:/biocbld/1.8d/R/src/include -O2 -DWin32 -c Rinit.c -o Rinit.o
gcc -Id:/biocbld/1.8d/R/src/include -O2 -DWin32 -c unpack.c -o unpack.o
gcc -Id:/biocbld/1.8d/R/src/include -O2 -DWin32 -c unparse.c -o unparse.o
rm -f -f Ruuid.a
ar cr Ruuid.a *.o
ranlib Ruuid.a
gcc -shared -o Ruuid.dll Ruuid.def Ruuid.a -Ld:/biocbld/1.8d/R/bin -lrpcrt4 -lg2c -lRblas -lR
... done
installing DLL
installing R files
installing inst files
installing man source files
installing indices
installing help
>>> Building/Updating help pages for package 'Ruuid'
Formats: text html latex example chm
Ruuid-class text html latex example chm
getuuid text html latex example chm
uuidt-class text html latex example chm
Microsoft HTML Help Compiler 4.74.8702
Compiling d:\biocbld\1.8d\Rpacks\Ruuid.Rcheck\00_pkg_src\Ruuid\chm\Ruuid.chm
Compile time: 0 minutes, 0 seconds
4 Topics
24 Local links
3 Internet links
1 Graphic
Created d:\biocbld\1.8d\Rpacks\Ruuid.Rcheck\00_pkg_src\Ruuid\chm\Ruuid.chm, 18,521 bytes
Compression increased file by 2,239 bytes.
adding MD5 sums
* DONE (Ruuid)