Back to the "Multiple platform build/check report"
| Package 116/172 | OS | Arch | BUILD | CHECK | BUILD BIN |
OrderedList1.4.0Claudio Lottaz | Linux (SUSE 9.2) | x86_64 | OK | OK | |
| Linux (SUSE 9.2) | i686 | OK | OK | ||
| Solaris 2.9 | sparc | OK | OK | ||
| Linux (SUSE 10.0) | x86_64 | OK | OK | ||
| Windows Server 2003 | x86_64 | OK | [ OK ] | OK |
| Package: OrderedList |
| Version: 1.4.0 |
| Command: D:\biocbld\1.8d\R\bin\R.exe CMD check OrderedList_1.4.0.tar.gz |
| RetCode: 0 |
| Time: 123.5 seconds |
| Status: OK |
| CheckDir: OrderedList.Rcheck |
| Warnings: 0 |
* checking for working latex ... OK * using log directory 'D:/biocbld/1.8d/Rpacks/OrderedList.Rcheck' * using Version 2.3.1 (2006-06-01) * checking for file 'OrderedList/DESCRIPTION' ... OK * this is package 'OrderedList' version '1.4.0' * checking package dependencies ... OK * checking if this is a source package ... OK * checking whether package 'OrderedList' can be installed ... OK * checking package directory ... OK * checking for portable file names ... OK * checking DESCRIPTION meta-information ... OK * checking top-level files ... OK * checking index information ... OK * checking package subdirectories ... OK * checking R files for syntax errors ... OK * checking R files for library.dynam ... OK * checking S3 generic/method consistency ... OK * checking replacement functions ... OK * checking foreign function calls ... OK * checking Rd files ... OK * checking for missing documentation entries ... OK * checking for code/documentation mismatches ... OK * checking Rd \usage sections ... OK * creating OrderedList-Ex.R ... OK * checking examples ... OK * checking package vignettes in 'inst/doc' ... OK * creating OrderedList-manual.tex ... OK * checking OrderedList-manual.tex ... OK
OrderedList.Rcheck/00install.out:
installing R.css in D:/biocbld/1.8d/Rpacks/OrderedList.Rcheck
---------- Making package OrderedList ------------
adding build stamp to DESCRIPTION
installing R files
save image
Loading required package: Biobase
Loading required package: tools
Welcome to Bioconductor
Vignettes contain introductory material. To view, type
'openVignette()' or start with 'help(Biobase)'. For details
on reading vignettes, see the openVignette help page.
Loading required package: twilight
Loading required package: splines
installing inst files
installing data files
installing man source files
installing indices
not zipping data
installing help
>>> Building/Updating help pages for package 'OrderedList'
Formats: text html latex example chm
OL.data text html latex chm
OL.result text html latex example chm
OrderedList text html latex example chm
check.test.args text html latex chm
compareLists text html latex example chm
getOverlap text html latex example chm
overlap text html latex chm
plot.OrderedList text html latex example chm
prepareData text html latex example chm
preparePermutations text html latex chm
print.OrderedList text html latex example chm
scoreOrderComparison text html latex chm
scoreRankings text html latex chm
shuffledRandomScores text html latex chm
Microsoft HTML Help Compiler 4.74.8702
Compiling d:\biocbld\1.8d\Rpacks\OrderedList.Rcheck\00_pkg_src\OrderedList\chm\OrderedList.chm
Compile time: 0 minutes, 0 seconds
15 Topics
53 Local links
0 Internet links
1 Graphic
Created d:\biocbld\1.8d\Rpacks\OrderedList.Rcheck\00_pkg_src\OrderedList\chm\OrderedList.chm, 38,781 bytes
Compression decreased file by 20,932 bytes.
adding MD5 sums
* DONE (OrderedList)