Back to the "Multiple platform build/check report"
| Package 102/172 | OS | Arch | BUILD | CHECK | BUILD BIN |
MergeMaid2.4.0Xiaogang Zhong | Linux (SUSE 9.2) | x86_64 | OK | OK | |
| Linux (SUSE 9.2) | i686 | OK | OK | ||
| Solaris 2.9 | sparc | OK | OK | ||
| Linux (SUSE 10.0) | x86_64 | OK | OK | ||
| Windows Server 2003 | x86_64 | OK | [ OK ] | OK |
| Package: MergeMaid |
| Version: 2.4.0 |
| Command: D:\biocbld\1.8d\R\bin\R.exe CMD check MergeMaid_2.4.0.tar.gz |
| RetCode: 0 |
| Time: 195.6 seconds |
| Status: OK |
| CheckDir: MergeMaid.Rcheck |
| Warnings: 0 |
* checking for working latex ... OK * using log directory 'D:/biocbld/1.8d/Rpacks/MergeMaid.Rcheck' * using Version 2.3.1 (2006-06-01) * checking for file 'MergeMaid/DESCRIPTION' ... OK * this is package 'MergeMaid' version '2.4.0' * checking package dependencies ... OK * checking if this is a source package ... OK * checking whether package 'MergeMaid' can be installed ... OK * checking package directory ... OK * checking for portable file names ... OK * checking DESCRIPTION meta-information ... OK * checking top-level files ... OK * checking index information ... OK * checking package subdirectories ... OK * checking R files for syntax errors ... OK * checking R files for library.dynam ... OK * checking S3 generic/method consistency ... OK * checking replacement functions ... OK * checking foreign function calls ... OK * checking Rd files ... OK * checking for missing documentation entries ... OK * checking for code/documentation mismatches ... OK * checking Rd \usage sections ... OK * creating MergeMaid-Ex.R ... OK * checking examples ... OK * checking package vignettes in 'inst/doc' ... OK * creating MergeMaid-manual.tex ... OK * checking MergeMaid-manual.tex ... OK
MergeMaid.Rcheck/00install.out:
installing R.css in D:/biocbld/1.8d/Rpacks/MergeMaid.Rcheck
---------- Making package MergeMaid ------------
adding build stamp to DESCRIPTION
installing R files
installing inst files
installing data files
installing man source files
installing indices
not zipping data
installing help
>>> Building/Updating help pages for package 'MergeMaid'
Formats: text html latex example chm
class.mergeCoeff text html latex example chm
class.mergeCor text html latex example chm
class.mergeExpressionSet text html latex example chm
intCor text html latex example chm
intcorDens text html latex example chm
intersection text html latex example chm
mergeData text html latex chm
mergeExprs text html latex example chm
modelOutcome text html latex example chm
Microsoft HTML Help Compiler 4.74.8702
Compiling d:\biocbld\1.8d\Rpacks\MergeMaid.Rcheck\00_pkg_src\MergeMaid\chm\MergeMaid.chm
Compile time: 0 minutes, 0 seconds
10 Topics
90 Local links
0 Internet links
1 Graphic
Created d:\biocbld\1.8d\Rpacks\MergeMaid.Rcheck\00_pkg_src\MergeMaid\chm\MergeMaid.chm, 29,367 bytes
Compression decreased file by 25,720 bytes.
preparing package MergeMaid for lazy loading
Welcome to Bioconductor
Vignettes contain introductory material. To view, type
'openVignette()' or start with 'help(Biobase)'. For details
on reading vignettes, see the openVignette help page.
adding MD5 sums
* DONE (MergeMaid)