Back to the "Multiple platform build/check report"
| Package 62/172 | OS | Arch | BUILD | CHECK | BUILD BIN |
GenomeBase1.0.0H. Pages | Linux (SUSE 9.2) | x86_64 | OK | OK | |
| Linux (SUSE 9.2) | i686 | OK | OK | ||
| Solaris 2.9 | sparc | OK | OK | ||
| Linux (SUSE 10.0) | x86_64 | OK | OK | ||
| Windows Server 2003 | x86_64 | [ OK ] | OK | OK |
| Package: GenomeBase |
| Version: 1.0.0 |
| Command: D:\biocbld\1.8d\R\bin\R.exe CMD build GenomeBase |
| RetCode: 0 |
| Time: 1.5 seconds |
| Status: OK |
| PackageFile: GenomeBase_1.0.0.tar.gz |
* checking for file 'GenomeBase/DESCRIPTION' ... OK * preparing 'GenomeBase': * checking DESCRIPTION meta-information ... OK * removing junk files * checking for LF line-endings in source files * checking for empty or unneeded directories * building 'GenomeBase_1.0.0.tar.gz'