Back to the "Multiple platform build/check report"
| Package 60/172 | OS | Arch | BUILD | CHECK | BUILD BIN |
GeneTraffic1.4.0Daniel Iordan | Linux (SUSE 9.2) | x86_64 | OK | OK | |
| Linux (SUSE 9.2) | i686 | OK | OK | ||
| Solaris 2.9 | sparc | OK | OK | ||
| Linux (SUSE 10.0) | x86_64 | OK | OK | ||
| Windows Server 2003 | x86_64 | OK | [ OK ] | OK |
| Package: GeneTraffic |
| Version: 1.4.0 |
| Command: D:\biocbld\1.8d\R\bin\R.exe CMD check GeneTraffic_1.4.0.tar.gz |
| RetCode: 0 |
| Time: 72.1 seconds |
| Status: OK |
| CheckDir: GeneTraffic.Rcheck |
| Warnings: 0 |
* checking for working latex ... OK * using log directory 'D:/biocbld/1.8d/Rpacks/GeneTraffic.Rcheck' * using Version 2.3.1 (2006-06-01) * checking for file 'GeneTraffic/DESCRIPTION' ... OK * this is package 'GeneTraffic' version '1.4.0' * checking package dependencies ... OK * checking if this is a source package ... OK * checking whether package 'GeneTraffic' can be installed ... OK * checking package directory ... OK * checking for portable file names ... OK * checking DESCRIPTION meta-information ... OK * checking top-level files ... OK * checking index information ... OK * checking package subdirectories ... OK * checking R files for syntax errors ... OK * checking R files for library.dynam ... OK * checking S3 generic/method consistency ... OK * checking replacement functions ... OK * checking foreign function calls ... OK * checking Rd files ... OK * checking for missing documentation entries ... OK * checking for code/documentation mismatches ... OK * checking Rd \usage sections ... OK * creating GeneTraffic-Ex.R ... OK * checking examples ... OK * creating GeneTraffic-manual.tex ... OK * checking GeneTraffic-manual.tex ... OK
GeneTraffic.Rcheck/00install.out:
installing R.css in D:/biocbld/1.8d/Rpacks/GeneTraffic.Rcheck
---------- Making package GeneTraffic ------------
adding build stamp to DESCRIPTION
installing R files
save image
Loading required package: Biobase
Loading required package: tools
Welcome to Bioconductor
Vignettes contain introductory material. To view, type
'openVignette()' or start with 'help(Biobase)'. For details
on reading vignettes, see the openVignette help page.
Loading required package: affy
Loading required package: affyio
Loading required package: marray
Loading required package: limma
Loading required package: SSOAP
Loading required package: XML
Loading required package: RCurl
Loading required package: XML
Loading required package: digest
[1] "GTServer"
installing inst files
installing man source files
installing indices
installing help
>>> Building/Updating help pages for package 'GeneTraffic'
Formats: text html latex example chm
GTGetProjectList text html latex example chm
GTGetProjectSummary text html latex example chm
GTLoadExpression text html latex example chm
GTLogin text html latex example chm
GTLogout text html latex example chm
GTServer-class text html latex example chm
GTServer text html latex example chm
Microsoft HTML Help Compiler 4.74.8702
Compiling d:\biocbld\1.8d\Rpacks\GeneTraffic.Rcheck\00_pkg_src\GeneTraffic\chm\GeneTraffic.chm
Compile time: 0 minutes, 0 seconds
8 Topics
14 Local links
0 Internet links
1 Graphic
Created d:\biocbld\1.8d\Rpacks\GeneTraffic.Rcheck\00_pkg_src\GeneTraffic\chm\GeneTraffic.chm, 18,917 bytes
Compression increased file by 69 bytes.
adding MD5 sums
* DONE (GeneTraffic)