Back to the "Multiple platform build/check report"
| Package 42/172 | OS | Arch | BUILD | CHECK | BUILD BIN |
DNAcopy1.6.0E. S. Venkatraman | Linux (SUSE 9.2) | x86_64 | OK | OK | |
| Linux (SUSE 9.2) | i686 | OK | OK | ||
| Solaris 2.9 | sparc | OK | OK | ||
| Linux (SUSE 10.0) | x86_64 | OK | OK | ||
| Windows Server 2003 | x86_64 | OK | [ OK ] | OK |
| Package: DNAcopy |
| Version: 1.6.0 |
| Command: D:\biocbld\1.8d\R\bin\R.exe CMD check DNAcopy_1.6.0.tar.gz |
| RetCode: 0 |
| Time: 90.2 seconds |
| Status: OK |
| CheckDir: DNAcopy.Rcheck |
| Warnings: 0 |
* checking for working latex ... OK * using log directory 'D:/biocbld/1.8d/Rpacks/DNAcopy.Rcheck' * using Version 2.3.1 (2006-06-01) * checking for file 'DNAcopy/DESCRIPTION' ... OK * this is package 'DNAcopy' version '1.6.0' * checking package dependencies ... OK * checking if this is a source package ... OK * checking whether package 'DNAcopy' can be installed ... OK * checking package directory ... OK * checking for portable file names ... OK * checking DESCRIPTION meta-information ... OK * checking top-level files ... OK * checking index information ... OK * checking package subdirectories ... OK * checking R files for syntax errors ... OK * checking R files for library.dynam ... OK * checking S3 generic/method consistency ... OK * checking replacement functions ... OK * checking foreign function calls ... OK * checking Rd files ... OK * checking for missing documentation entries ... OK * checking for code/documentation mismatches ... OK * checking Rd \usage sections ... OK * checking for CRLF line endings in C/C++/Fortran sources/headers ... OK * creating DNAcopy-Ex.R ... OK * checking examples ... OK * checking package vignettes in 'inst/doc' ... OK * creating DNAcopy-manual.tex ... OK * checking DNAcopy-manual.tex ... OK
DNAcopy.Rcheck/00install.out:
installing R.css in D:/biocbld/1.8d/Rpacks/DNAcopy.Rcheck
---------- Making package DNAcopy ------------
adding build stamp to DESCRIPTION
making DLL ...
making flchoose.d from flchoose.c
making fphyper.d from fphyper.c
making fpnorm.d from fpnorm.c
making rshared.d from rshared.c
gcc -Id:/biocbld/1.8d/R/include -Wall -O2 -c flchoose.c -o flchoose.o
gcc -Id:/biocbld/1.8d/R/include -Wall -O2 -c fphyper.c -o fphyper.o
gcc -Id:/biocbld/1.8d/R/include -Wall -O2 -c fpnorm.c -o fpnorm.o
gcc -Id:/biocbld/1.8d/R/include -Wall -O2 -c rshared.c -o rshared.o
g77 -O2 -Wall -c changepoints.f -o changepoints.o
changepoints.f: In subroutine `tmax1':
In file included from changepoints.f:0:
changepoints.f:166: warning: 'sxmxi' might be used uninitialized in this function
changepoints.f:166: warning: 'wtmxi' might be used uninitialized in this function
changepoints.f:166: warning: 'wtmxj' might be used uninitialized in this function
g77 -O2 -Wall -c getbdry.f -o getbdry.o
getbdry.f: In subroutine `getbdry':
In file included from getbdry.f:0:
getbdry.f:6: warning: unused variable 'k'
getbdry.f:6: warning: unused variable 'i'
g77 -O2 -Wall -c hybcpt.f -o hybcpt.o
g77 -O2 -Wall -c prune.f -o prune.o
windres --include-dir d:/biocbld/1.8d/R/include -i DNAcopy_res.rc -o DNAcopy_res.o
gcc -shared -s -o DNAcopy.dll DNAcopy.def flchoose.o fphyper.o fpnorm.o rshared.o changepoints.o getbdry.o hybcpt.o prune.o DNAcopy_res.o -Ld:/biocbld/1.8d/R/bin -lg2c -lR
... DLL made
installing DLL
installing R files
installing demos
installing inst files
installing data files
preparing package DNAcopy for lazy data loading
installing man source files
installing indices
installing help
>>> Building/Updating help pages for package 'DNAcopy'
Formats: text html latex example chm
CNA text html latex example chm
DNAcopy-internal text html latex chm
DNAcopy text html latex chm
coriell text html latex chm
cytoBand text html latex chm
getbdry text html latex chm
plot.DNAcopy text html latex example chm
segment text html latex example chm
smooth.CNA text html latex example chm
subset.CNA text html latex example chm
subset.DNAcopy text html latex chm
Microsoft HTML Help Compiler 4.74.8702
Compiling d:\biocbld\1.8d\Rpacks\DNAcopy.Rcheck\00_pkg_src\DNAcopy\chm\DNAcopy.chm
Compile time: 0 minutes, 0 seconds
12 Topics
24 Local links
1 Internet link
1 Graphic
Created d:\biocbld\1.8d\Rpacks\DNAcopy.Rcheck\00_pkg_src\DNAcopy\chm\DNAcopy.chm, 32,007 bytes
Compression decreased file by 8,688 bytes.
adding MD5 sums
* DONE (DNAcopy)