Back to the "Multiple platform build/check report"
| Package 169/172 | OS | Arch | BUILD | CHECK | BUILD BIN |
widgetInvoke1.4.0Jeff Gentry | Linux (SUSE 9.2) | x86_64 | OK | [ OK ] | |
| Linux (SUSE 9.2) | i686 | OK | OK | ||
| Solaris 2.9 | sparc | OK | OK | ||
| Linux (SUSE 10.0) | x86_64 | OK | OK | ||
| Windows Server 2003 | x86_64 | ERROR | skipped | skipped |
| Package: widgetInvoke |
| Version: 1.4.0 |
| Command: /loc/biocbuild/1.8d/R/bin/R CMD check widgetInvoke_1.4.0.tar.gz |
| RetCode: 0 |
| Time: 29.8 seconds |
| Status: OK |
| CheckDir: widgetInvoke.Rcheck |
| Warnings: 0 |
* checking for working latex ... OK * using log directory '/loc/biocbuild/1.8d/Rpacks/widgetInvoke.Rcheck' * using Version 2.3.1 (2006-06-01) * checking for file 'widgetInvoke/DESCRIPTION' ... OK * this is package 'widgetInvoke' version '1.4.0' * checking package dependencies ... OK * checking if this is a source package ... OK * checking whether package 'widgetInvoke' can be installed ... OK * checking package directory ... OK * checking for portable file names ... OK * checking for sufficient/correct file permissions ... OK * checking DESCRIPTION meta-information ... OK * checking top-level files ... OK * checking index information ... OK * checking package subdirectories ... OK * checking R files for syntax errors ... OK * checking R files for library.dynam ... OK * checking S3 generic/method consistency ... OK * checking replacement functions ... OK * checking foreign function calls ... OK * checking Rd files ... OK * checking for missing documentation entries ... OK * checking for code/documentation mismatches ... OK * checking Rd \usage sections ... OK * creating widgetInvoke-Ex.R ... OK * checking examples ... OK * checking package vignettes in 'inst/doc' ... OK * creating widgetInvoke-manual.tex ... OK * checking widgetInvoke-manual.tex ... OK
widgetInvoke.Rcheck/00install.out:
* Installing *source* package 'widgetInvoke' ...
** R
** inst
** save image
Loading required package: XML
Loading required package: RGtk
** help
>>> Building/Updating help pages for package 'widgetInvoke'
Formats: text html latex example
SimpleW-class text html latex example
createWF text html latex example
fun2wFun text html latex example
funArg-class text html latex example
testWIfun text html latex example
wFun-class text html latex example
widgetInvoke text html latex example
writeWIxml text html latex example
** building package indices ...
* DONE (widgetInvoke)